BEGIN:VCALENDAR
VERSION:2.0
PRODID:-//Biomedical Mathematics Group - ECPv6.15.20//NONSGML v1.0//EN
CALSCALE:GREGORIAN
METHOD:PUBLISH
X-ORIGINAL-URL:https://www.ibs.re.kr/bimag
X-WR-CALDESC:Events for Biomedical Mathematics Group
REFRESH-INTERVAL;VALUE=DURATION:PT1H
X-Robots-Tag:noindex
X-PUBLISHED-TTL:PT1H
BEGIN:VTIMEZONE
TZID:Asia/Seoul
BEGIN:STANDARD
TZOFFSETFROM:+0900
TZOFFSETTO:+0900
TZNAME:KST
DTSTART:20250101T000000
END:STANDARD
END:VTIMEZONE
BEGIN:VEVENT
DTSTART;TZID=Asia/Seoul:20260327T100000
DTEND;TZID=Asia/Seoul:20260327T113000
DTSTAMP:20260422T123715
CREATED:20260326T001251Z
LAST-MODIFIED:20260326T001251Z
UID:12316-1774605600-1774611000@www.ibs.re.kr
SUMMARY:A multi-agent reinforcement learning framework for exploring dominant strategies in iterated and evolutionary games - Fanpeng Song
DESCRIPTION:In this talk\, we discuss the paper “A multi-agent reinforcement learning framework for exploring dominant strategies in iterated and evolutionary games” by Qi Su et al.\, Nat. Comm.\, 2026. \nAbstract \nExploring dominant strategies in iterated games holds theoretical and practical significance across diverse domains. Previous studies\, through mathematical analysis of limited cases\, have unveiled classic strategies such as tit-for-tat\, generous-tit-for-tat\, win-stay-lose-shift\, and zero-determinant strategies. While these strategies offer valuable insights into human decision-making\, they represent only a small subset of possible strategies\, constrained by limited mathematical and computational tools available to explore larger strategy spaces. To bridge this gap\, we propose an approach using multi-agent reinforcement learning to delve into complex decision-making processes that go beyond human intuition. Our approach has led to the discovery of a strategy that we call memory-two bilateral reciprocity strategy. Memory-two bilateral reciprocity strategy consistently outperforms a wide range of strategies in pairwise interactions while achieving high payoffs. When introduced into an evolving population with diverse strategies\, memory-two bilateral reciprocity strategy demonstrates dominance and fosters higher levels of cooperation and social welfare in both homogeneous and heterogeneous structures\, as well as across various game types. This high performance is verified by simulations and mathematical analysis. Our work highlights the potential of multi-agent reinforcement learning in uncovering dominant strategies in iterated and evolutionary games.
URL:https://www.ibs.re.kr/bimag/event/a-multi-agent-reinforcement-learning-framework-for-exploring-dominant-strategies-in-iterated-and-evolutionary-games-fanpeng-song/
LOCATION:B232 Seminar Room\, IBS\, 55 Expo-ro Yuseong-gu\, Daejeon\, Daejeon\, 34126\, Korea\, Republic of
CATEGORIES:Journal Club
ORGANIZER;CN="Jae Kyoung Kim":MAILTO:jaekkim@kaist.ac.kr
END:VEVENT
END:VCALENDAR