BEGIN:VCALENDAR
VERSION:2.0
PRODID:-//Biomedical Mathematics Group - ECPv6.15.20//NONSGML v1.0//EN
CALSCALE:GREGORIAN
METHOD:PUBLISH
X-WR-CALNAME:Biomedical Mathematics Group
X-ORIGINAL-URL:https://www.ibs.re.kr/bimag
X-WR-CALDESC:Events for Biomedical Mathematics Group
REFRESH-INTERVAL;VALUE=DURATION:PT1H
X-Robots-Tag:noindex
X-PUBLISHED-TTL:PT1H
BEGIN:VTIMEZONE
TZID:Asia/Seoul
BEGIN:STANDARD
TZOFFSETFROM:+0900
TZOFFSETTO:+0900
TZNAME:KST
DTSTART:20250101T000000
END:STANDARD
END:VTIMEZONE
BEGIN:VEVENT
DTSTART;TZID=Asia/Seoul:20260206T100000
DTEND;TZID=Asia/Seoul:20260206T113000
DTSTAMP:20260422T141927
CREATED:20260203T013529Z
LAST-MODIFIED:20260203T013529Z
UID:12164-1770372000-1770377400@www.ibs.re.kr
SUMMARY:Multi-Marginal Flow Matching with Adversarially Learnt Interpolants - Gyuyoung Hwang
DESCRIPTION:In this talk\, we discuss the paper “Multi-Marginal Flow Matching with Adversarially Learnt Interpolants” by O. Kviman et al.\, 2025\, arxiv. \nAbstract \nLearning the dynamics of a process given sampled observations at several time points is an important but difficult task in many scientific applications. When no ground-truth trajectories are available\, but one has only snapshots of data taken at discrete time steps\, the problem of modelling the dynamics\, and thus inferring the underlying trajectories\, can be solved by multi-marginal generalisations of flow matching algorithms. This paper proposes a novel flow matching method that overcomes the limitations of existing multi-marginal trajectory inference algorithms. Our proposed method\, ALI-CFM\, uses a GAN-inspired adversarial loss to fit neurally parametrised interpolant curves between source and target points such that the marginal distributions at intermediate time points are close to the observed distributions. The resulting interpolants are smooth trajectories that\, as we show\, are unique under mild assumptions. These interpolants are subsequently marginalised by a flow matching algorithm\, yielding a trained vector field for the underlying dynamics. We showcase the versatility and scalability of our method by outperforming the existing baselines on spatial transcriptomics and cell tracking datasets\, while performing on par with them on single-cell trajectory prediction.
URL:https://www.ibs.re.kr/bimag/event/multi-marginal-flow-matching-with-adversarially-learnt-interpolants-gyuyoung-hwang/
LOCATION:B232 Seminar Room\, IBS\, 55 Expo-ro Yuseong-gu\, Daejeon\, Daejeon\, 34126\, Korea\, Republic of
CATEGORIES:Journal Club
ORGANIZER;CN="Jae Kyoung Kim":MAILTO:jaekkim@kaist.ac.kr
END:VEVENT
END:VCALENDAR