BEGIN:VCALENDAR
VERSION:2.0
PRODID:-//Biomedical Mathematics Group - ECPv6.15.20//NONSGML v1.0//EN
CALSCALE:GREGORIAN
METHOD:PUBLISH
X-ORIGINAL-URL:https://www.ibs.re.kr/bimag
X-WR-CALDESC:Events for Biomedical Mathematics Group
REFRESH-INTERVAL;VALUE=DURATION:PT1H
X-Robots-Tag:noindex
X-PUBLISHED-TTL:PT1H
BEGIN:VTIMEZONE
TZID:Asia/Seoul
BEGIN:STANDARD
TZOFFSETFROM:+0900
TZOFFSETTO:+0900
TZNAME:KST
DTSTART:20240101T000000
END:STANDARD
END:VTIMEZONE
BEGIN:VEVENT
DTSTART;TZID=Asia/Seoul:20250905T140000
DTEND;TZID=Asia/Seoul:20250905T160000
DTSTAMP:20260423T030459
CREATED:20250825T080853Z
LAST-MODIFIED:20250901T020216Z
UID:11433-1757080800-1757088000@www.ibs.re.kr
SUMMARY:Physics-constrained neural ordinary differential equation models to discover and predict microbial community dynamics - Kang Min Lee
DESCRIPTION:In this talk\, we discuss the paper “Physics-constrained neural ordinary differential equation models to discover and predict microbial community dynamics” by J. Thompson et al.\, bioarxiv\, 2025. \nAbstract \nMicrobial communities play essential roles in shaping ecosystem functions and predictive modeling frameworks are crucial for understanding\, controlling\, and harnessing their properties. Competition and cross-feeding of metabolites drives microbiome dynamics and functions. Existing mechanistic models that capture metabolite-mediated interactions in microbial communities have limited flexibility due to rigid assumptions. While machine learning models provide flexibility\, they require large datasets\, are challenging to interpret\, and can over-fit to experimental noise. To overcome these limitations\, we develop a physics-constrained machine learning model\, which we call the Neural Species Mediator (NSM)\, that combines a mechanistic model of metabolite dynamics with a machine learning component. The NSM is more accurate than mechanistic or machine learning components on experimental datasets and provides insights into direct biological interactions. In summary\, embedding a neural network into a mechanistic model of microbial community dynamics improves prediction performance and interpretability compared to its constituent mechanistic or machine learning components.
URL:https://www.ibs.re.kr/bimag/event/physics-constrained-neural-ordinary-differential-equation-models-to-discover-and-predict-microbial-community-dynamics-kang-min-lee/
LOCATION:B232 Seminar Room\, IBS\, 55 Expo-ro Yuseong-gu\, Daejeon\, Daejeon\, 34126\, Korea\, Republic of
CATEGORIES:Journal Club
ORGANIZER;CN="Jae Kyoung Kim":MAILTO:jaekkim@kaist.ac.kr
END:VEVENT
END:VCALENDAR