BEGIN:VCALENDAR
VERSION:2.0
PRODID:-//Biomedical Mathematics Group - ECPv6.15.20//NONSGML v1.0//EN
CALSCALE:GREGORIAN
METHOD:PUBLISH
X-WR-CALNAME:Biomedical Mathematics Group
X-ORIGINAL-URL:https://www.ibs.re.kr/bimag
X-WR-CALDESC:Events for Biomedical Mathematics Group
REFRESH-INTERVAL;VALUE=DURATION:PT1H
X-Robots-Tag:noindex
X-PUBLISHED-TTL:PT1H
BEGIN:VTIMEZONE
TZID:Asia/Seoul
BEGIN:STANDARD
TZOFFSETFROM:+0900
TZOFFSETTO:+0900
TZNAME:KST
DTSTART:20240101T000000
END:STANDARD
END:VTIMEZONE
BEGIN:VEVENT
DTSTART;TZID=Asia/Seoul:20250530T140000
DTEND;TZID=Asia/Seoul:20250530T160000
DTSTAMP:20260423T081157
CREATED:20250426T143239Z
LAST-MODIFIED:20250528T035910Z
UID:11061-1748613600-1748620800@www.ibs.re.kr
SUMMARY:Direct Estimation of Parameters in ODE Models Using WENDy - Kangmin Lee
DESCRIPTION:In this talk\, we discuss the paper “Direct Estimation of Parameters in ODE Models Using WENDy: Weak-Form Estimation of Nonlinear Dynamics” by David M. Bortz\, Daniel A. Messenger\, and Vanja Dukic\, Bulletin of Mathematical Biology\, 2023. \nAbstract \nWe introduce the Weak-form Estimation of Nonlinear Dynamics (WENDy) method for estimating model parameters for non-linear systems of ODEs. Without relying on any numerical differential equation solvers\, WENDy computes accurate estimates and is robust to large (biologically relevant) levels of measurement noise. For low dimensional systems with modest amounts of data\, WENDy is competitive with conventional forward solver-based nonlinear least squares methods in terms of speed and accuracy. For both higher dimensional systems and stiff systems\, WENDy is typically both faster (often by orders of magnitude) and more accurate than forward solver-based approaches. The core mathematical idea involves an efficient conversion of the strong form representation of a model to its weak form\, and then solving a regression problem to perform parameter inference. The core statistical idea rests on the Errors-In-Variables framework\, which necessitates the use of the iteratively reweighted least squares algorithm. Further improvements are obtained by using orthonormal test functions\, created from a set of C∞ bump functions of varying support sizes.We demonstrate the high robustness and computational efficiency by applying WENDy to estimate parameters in some common models from population biology\, neuroscience\, and biochemistry\, including logistic growth\, Lotka-Volterra\, FitzHugh-Nagumo\, Hindmarsh-Rose\, and a Protein Transduction Benchmark model. Software and code for reproducing the examples is available at https://github.com/MathBioCU/WENDy.
URL:https://www.ibs.re.kr/bimag/event/quantifying-and-correcting-bias-in-transcriptional-parameter-inference-from-single-cell-data-kangmin-lee/
LOCATION:B232 Seminar Room\, IBS\, 55 Expo-ro Yuseong-gu\, Daejeon\, Daejeon\, 34126\, Korea\, Republic of
CATEGORIES:Journal Club
ORGANIZER;CN="Jae Kyoung Kim":MAILTO:jaekkim@kaist.ac.kr
END:VEVENT
END:VCALENDAR