BEGIN:VCALENDAR
VERSION:2.0
PRODID:-//Biomedical Mathematics Group - ECPv6.15.20//NONSGML v1.0//EN
CALSCALE:GREGORIAN
METHOD:PUBLISH
X-WR-CALNAME:Biomedical Mathematics Group
X-ORIGINAL-URL:https://www.ibs.re.kr/bimag
X-WR-CALDESC:Events for Biomedical Mathematics Group
REFRESH-INTERVAL;VALUE=DURATION:PT1H
X-Robots-Tag:noindex
X-PUBLISHED-TTL:PT1H
BEGIN:VTIMEZONE
TZID:Asia/Seoul
BEGIN:STANDARD
TZOFFSETFROM:+0900
TZOFFSETTO:+0900
TZNAME:KST
DTSTART:20240101T000000
END:STANDARD
END:VTIMEZONE
BEGIN:VEVENT
DTSTART;TZID=Asia/Seoul:20250411T140000
DTEND;TZID=Asia/Seoul:20250411T160000
DTSTAMP:20260423T095937
CREATED:20250327T010416Z
LAST-MODIFIED:20250327T010416Z
UID:10921-1744380000-1744387200@www.ibs.re.kr
SUMMARY:Entrainment and multi-stability of the p53 oscillator in human cells - Eui Min Jeong
DESCRIPTION:In this talk\, we discuss the paper\, “Entrainment and multi-stability of the p53 oscillator in human cells” by Alba Jiménez et al.\, Cell Systems\, 2024. \nAbstract  \nThe tumor suppressor p53 responds to cellular stress and activates transcription programs critical for regulating cell fate. DNA damage triggers oscillations in p53 levels with a robust period. Guided by the theory of synchronization and entrainment\, we developed a mathematical model and experimental system to test the ability of the p53 oscillator to entrain to external drug pulses of various periods and strengths. We found that the p53 oscillator can be locked and entrained to a wide range of entrainment modes. External periods far from p53’s natural oscillations increased the heterogeneity between individual cells whereas stronger inputs reduced it. Single-cell measurements allowed deriving the phase response curves (PRCs) and multiple Arnold tongues of p53. In addition\, multi-stability and non-linear behaviors were mathematically predicted and experimentally detected\, including mode hopping\, period doubling\, and chaos. Our work revealed critical dynamical properties of the p53 oscillator and provided insights into understanding and controlling it. A record of this paper’s transparent peer review process is included in the supplemental information.
URL:https://www.ibs.re.kr/bimag/event/entrainment-and-multi-stability-of-the-p53-oscillator-in-human-cells-eui-min-jeong/
LOCATION:B232 Seminar Room\, IBS\, 55 Expo-ro Yuseong-gu\, Daejeon\, Daejeon\, 34126\, Korea\, Republic of
CATEGORIES:Journal Club
ORGANIZER;CN="Jae Kyoung Kim":MAILTO:jaekkim@kaist.ac.kr
END:VEVENT
END:VCALENDAR