BEGIN:VCALENDAR
VERSION:2.0
PRODID:-//Biomedical Mathematics Group - ECPv6.15.20//NONSGML v1.0//EN
CALSCALE:GREGORIAN
METHOD:PUBLISH
X-WR-CALNAME:Biomedical Mathematics Group
X-ORIGINAL-URL:https://www.ibs.re.kr/bimag
X-WR-CALDESC:Events for Biomedical Mathematics Group
REFRESH-INTERVAL;VALUE=DURATION:PT1H
X-Robots-Tag:noindex
X-PUBLISHED-TTL:PT1H
BEGIN:VTIMEZONE
TZID:Asia/Seoul
BEGIN:STANDARD
TZOFFSETFROM:+0900
TZOFFSETTO:+0900
TZNAME:KST
DTSTART:20240101T000000
END:STANDARD
END:VTIMEZONE
BEGIN:VEVENT
DTSTART;TZID=Asia/Seoul:20250328T140000
DTEND;TZID=Asia/Seoul:20250328T160000
DTSTAMP:20260423T115507
CREATED:20250302T133447Z
LAST-MODIFIED:20250327T010923Z
UID:10853-1743170400-1743177600@www.ibs.re.kr
SUMMARY:Frequency-Dependent Covariance Reveals Critical Spatiotemporal Patterns of Synchronized Activity in the Human Brain - Hyun Kim
DESCRIPTION:In this talk\, we discuss the paper “Frequency-Dependent Covariance Reveals Critical Spatiotemporal Patterns of Synchronized Activity in the Human Brain” by Rubén Calvo et al.\, Physical Review Letters 2024\, at the Journal Club. \nAbstract \nRecent analyses\, leveraging advanced theoretical techniques and high-quality data from thousands of simultaneously recorded neurons across regions in the brain\, compellingly support the hypothesis that neural dynamics operate near the edge of instability. However\, these and related analyses often fail to capture the intricate temporal structure of brain activity\, as they primarily rely on time-integrated measurements across neurons. Here\, we present a novel framework designed to explore signatures of criticality across diverse frequency bands and construct a much more comprehensive description of brain activity. Furthermore\, we introduce a method for projecting brain activity onto a basis of spatiotemporal patterns\, facilitating time-dependent dimensionality reduction. Applying this framework to a magnetoencephalography dataset\, we observe significant differences in criticality signatures\, effective dimensionality\, and spatiotemporal activity patterns between healthy subjects and individuals with Parkinson’s disease\, highlighting its potential impact.
URL:https://www.ibs.re.kr/bimag/event/journal-club-hyun-kim/
LOCATION:Daejeon
CATEGORIES:Journal Club
ORGANIZER;CN="Jae Kyoung Kim":MAILTO:jaekkim@kaist.ac.kr
END:VEVENT
END:VCALENDAR