BEGIN:VCALENDAR
VERSION:2.0
PRODID:-//Biomedical Mathematics Group - ECPv6.15.20//NONSGML v1.0//EN
CALSCALE:GREGORIAN
METHOD:PUBLISH
X-ORIGINAL-URL:https://www.ibs.re.kr/bimag
X-WR-CALDESC:Events for Biomedical Mathematics Group
REFRESH-INTERVAL;VALUE=DURATION:PT1H
X-Robots-Tag:noindex
X-PUBLISHED-TTL:PT1H
BEGIN:VTIMEZONE
TZID:Asia/Seoul
BEGIN:STANDARD
TZOFFSETFROM:+0900
TZOFFSETTO:+0900
TZNAME:KST
DTSTART:20240101T000000
END:STANDARD
END:VTIMEZONE
BEGIN:VEVENT
DTSTART;TZID=Asia/Seoul:20250321T143000
DTEND;TZID=Asia/Seoul:20250321T163000
DTSTAMP:20260423T134041
CREATED:20250226T070501Z
LAST-MODIFIED:20250314T140235Z
UID:10811-1742567400-1742574600@www.ibs.re.kr
SUMMARY:Designing microplastic-binding peptides with a variational quantum circuit–based hybrid quantum-classical approach - Gyuyoung Hwang
DESCRIPTION:In this talk\, we discuss the paper “Designing microplastic-binding peptides with a variational quantum circuit–based hybrid quantum-classical approach” by R.C. Vendrell et.al.\, Sci. Adv. 2024 at the Journal Club. \nAbstract \nDe novo peptide design exhibits great potential in materials engineering\, particularly for the use of plastic-binding peptides to help remediate microplastic pollution. There are no known peptide binders for many plastics—a gap that can be filled with de novo design. Current computational methods for peptide design exhibit limitations in sampling and scaling that could be addressed with quantum computing. Hybrid quantum-classical methods can leverage complementary strengths of near-term quantum algorithms and classical techniques for complex tasks like peptide design. This work introduces a hybrid quantum-classical generative framework for designing plastic-binding peptides combining variational quantum circuits with a variational autoencoder network. We demonstrate the framework’s effectiveness in generating peptide candidates\, evaluate its efficiency for property-oriented design\, and validate the candidates with molecular dynamics simulations. This quantum computing–based approach could accelerate the development of biomolecular tools for environmental and biomedical applications while advancing the study of biomolecular systems through quantum technologies. \n 
URL:https://www.ibs.re.kr/bimag/event/phantom-oscillations-in-principal-component-analysis-gyuyoung-hwang/
LOCATION:Daejeon
CATEGORIES:Journal Club
ORGANIZER;CN="Jae Kyoung Kim":MAILTO:jaekkim@kaist.ac.kr
END:VEVENT
END:VCALENDAR