BEGIN:VCALENDAR
VERSION:2.0
PRODID:-//Biomedical Mathematics Group - ECPv6.15.20//NONSGML v1.0//EN
CALSCALE:GREGORIAN
METHOD:PUBLISH
X-ORIGINAL-URL:https://www.ibs.re.kr/bimag
X-WR-CALDESC:Events for Biomedical Mathematics Group
REFRESH-INTERVAL;VALUE=DURATION:PT1H
X-Robots-Tag:noindex
X-PUBLISHED-TTL:PT1H
BEGIN:VTIMEZONE
TZID:Asia/Seoul
BEGIN:STANDARD
TZOFFSETFROM:+0900
TZOFFSETTO:+0900
TZNAME:KST
DTSTART:20240101T000000
END:STANDARD
END:VTIMEZONE
BEGIN:VEVENT
DTSTART;TZID=Asia/Seoul:20250307T140000
DTEND;TZID=Asia/Seoul:20250307T160000
DTSTAMP:20260423T134040
CREATED:20250226T065718Z
LAST-MODIFIED:20250305T000149Z
UID:10804-1741356000-1741363200@www.ibs.re.kr
SUMMARY:The Large Language Models on Biomedical Data Analysis: A Survey - Myna Lim
DESCRIPTION:In this talk\, we discuss the paper “The Large Language Models on Biomedical Data Analysis: A Survey” by Wei Lan et.al\, IEEE J. Biomedical and Health Informatics\, 2025\, at the Journal Club. \nAbstract  \nWith the rapid development of Large Language Model (LLM) technology\, it has become an indispensable force in biomedical data analysis research. However\, biomedical researchers currently have limited knowledge about LLM. Therefore\, there is an urgent need for a summary of LLM applications in biomedical data analysis. Herein\, we propose this review by summarizing the latest research work on LLM in biomedicine. In this review\, LLM techniques are first outlined. We then discuss biomedical datasets and frameworks for biomedical data analysis\, followed by a detailed analysis of LLM applications in genomics\, proteomics\, transcriptomics\, radiomics\, single-cell analysis\, medical texts and drug discovery. Finally\, the challenges of LLM in biomedical data analysis are discussed. In summary\, this review is intended for researchers interested in LLM technology and aims to help them understand and apply LLM in biomedical data analysis research.
URL:https://www.ibs.re.kr/bimag/event/machine-learning-model-for-menstrual-cycle-phase-classification-and-ovulation-day-detection-based-on-sleeping-heart-rate-under-free-living-conditions-myna-lim/
LOCATION:Daejeon
CATEGORIES:Journal Club
ORGANIZER;CN="Jae Kyoung Kim":MAILTO:jaekkim@kaist.ac.kr
END:VEVENT
END:VCALENDAR