BEGIN:VCALENDAR
VERSION:2.0
PRODID:-//Biomedical Mathematics Group - ECPv6.15.20//NONSGML v1.0//EN
CALSCALE:GREGORIAN
METHOD:PUBLISH
X-ORIGINAL-URL:https://www.ibs.re.kr/bimag
X-WR-CALDESC:Events for Biomedical Mathematics Group
REFRESH-INTERVAL;VALUE=DURATION:PT1H
X-Robots-Tag:noindex
X-PUBLISHED-TTL:PT1H
BEGIN:VTIMEZONE
TZID:Asia/Seoul
BEGIN:STANDARD
TZOFFSETFROM:+0900
TZOFFSETTO:+0900
TZNAME:KST
DTSTART:20240101T000000
END:STANDARD
END:VTIMEZONE
BEGIN:VEVENT
DTSTART;TZID=Asia/Seoul:20250214T140000
DTEND;TZID=Asia/Seoul:20250214T160000
DTSTAMP:20260423T134042
CREATED:20250128T024512Z
LAST-MODIFIED:20250203T004838Z
UID:10710-1739541600-1739548800@www.ibs.re.kr
SUMMARY:Method for cycle detection in sparse\, irregularly sampled\, long-term neuro-behavioral timeseries - Brenda Gavina
DESCRIPTION:In this talk\, we discuss the paper “Method for cycle detection in sparse\, irregularly sampled\, long-term neuro-behavioral timeseries: Basis pursuit denoising with polynomial detrending of long-term\, inter-ictal epileptiform activity” by Irena Balzekas et.al.\, Plos Com.\, 2024. \nAbstract \nNumerous physiological processes are cyclical\, but sampling these processes densely enough to perform frequency decomposition and subsequent analyses can be challenging. Mathematical approaches for decomposition and reconstruction of sparsely and irregularly sampled signals are well established but have been under-utilized in physiological applications. We developed a basis pursuit denoising with polynomial detrending (BPWP) model that recovers oscillations and trends from sparse and irregularly sampled timeseries. We validated this model on a unique dataset of long-term inter-ictal epileptiform discharge (IED) rates from human hippocampus recorded with a novel investigational device with continuous local field potential sensing. IED rates have well established circadian and multiday cycles related to sleep\, wakefulness\, and seizure clusters. Given sparse and irregular samples of IED rates from multi-month intracranial EEG recordings from ambulatory humans\, we used BPWP to compute narrowband spectral power and polynomial trend coefficients and identify IED rate cycles in three subjects. In select cases\, we propose that random and irregular sampling may be leveraged for frequency decomposition of physiological signals.
URL:https://www.ibs.re.kr/bimag/event/method-for-cycle-detection-in-sparse-irregularly-sampled-long-term-neuro-behavioral-timeseries-brenda-gavina/
LOCATION:B232 Seminar Room\, IBS\, 55 Expo-ro Yuseong-gu\, Daejeon\, Daejeon\, 34126\, Korea\, Republic of
CATEGORIES:Journal Club
ORGANIZER;CN="Jae Kyoung Kim":MAILTO:jaekkim@kaist.ac.kr
END:VEVENT
END:VCALENDAR