BEGIN:VCALENDAR
VERSION:2.0
PRODID:-//Biomedical Mathematics Group - ECPv6.15.20//NONSGML v1.0//EN
CALSCALE:GREGORIAN
METHOD:PUBLISH
X-WR-CALNAME:Biomedical Mathematics Group
X-ORIGINAL-URL:https://www.ibs.re.kr/bimag
X-WR-CALDESC:Events for Biomedical Mathematics Group
REFRESH-INTERVAL;VALUE=DURATION:PT1H
X-Robots-Tag:noindex
X-PUBLISHED-TTL:PT1H
BEGIN:VTIMEZONE
TZID:Asia/Seoul
BEGIN:STANDARD
TZOFFSETFROM:+0900
TZOFFSETTO:+0900
TZNAME:KST
DTSTART:20230101T000000
END:STANDARD
END:VTIMEZONE
BEGIN:VEVENT
DTSTART;TZID=Asia/Seoul:20240920T140000
DTEND;TZID=Asia/Seoul:20240920T160000
DTSTAMP:20260424T032812
CREATED:20240828T015222Z
LAST-MODIFIED:20240828T015222Z
UID:9966-1726840800-1726848000@www.ibs.re.kr
SUMMARY:Brenda Gavina\, Achieving Occam’s razor: Deep learning for optimal model reduction
DESCRIPTION:In this talk\, we discuss the paper “Achieving Occam’s razor: Deep learning for optimal model reduction” by Botond B. Antal et.al.\, PLOS Computational Biology\, 2024. \nAbstract  \nAll fields of science depend on mathematical models. Occam’s razor refers to the principle that good models should exclude parameters beyond those minimally required to describe the systems they represent. This is because redundancy can lead to incorrect estimates of model parameters from data\, and thus inaccurate or ambiguous conclusions. Here\, we show how deep learning can be powerfully leveraged to apply Occam’s razor to model parameters. Our method\, FixFit\, uses a feedforward deep neural network with a bottleneck layer to characterize and predict the behavior of a given model from its input parameters. FixFit has three major benefits. First\, it provides a metric to quantify the original model’s degree of complexity. Second\, it allows for the unique fitting of data. Third\, it provides an unbiased way to discriminate between experimental hypotheses that add value versus those that do not. In three use cases\, we demonstrate the broad applicability of this method across scientific domains. To validate the method using a known system\, we apply FixFit to recover known composite parameters for the Kepler orbit model and a dynamic model of blood glucose regulation. In the latter\, we demonstrate the ability to fit the latent parameters to real data. To illustrate how the method can be applied to less well-established fields\, we use it to identify parameters for a multi-scale brain model and reduce the search space for viable candidate mechanisms.
URL:https://www.ibs.re.kr/bimag/event/brenda-gavina-achieving-occams-razor-deep-learning-for-optimal-model-reduction/
LOCATION:Daejeon
CATEGORIES:Journal Club
ORGANIZER;CN="Jae Kyoung Kim":MAILTO:jaekkim@kaist.ac.kr
END:VEVENT
END:VCALENDAR