BEGIN:VCALENDAR
VERSION:2.0
PRODID:-//Biomedical Mathematics Group - ECPv6.15.20//NONSGML v1.0//EN
CALSCALE:GREGORIAN
METHOD:PUBLISH
X-WR-CALNAME:Biomedical Mathematics Group
X-ORIGINAL-URL:https://www.ibs.re.kr/bimag
X-WR-CALDESC:Events for Biomedical Mathematics Group
REFRESH-INTERVAL;VALUE=DURATION:PT1H
X-Robots-Tag:noindex
X-PUBLISHED-TTL:PT1H
BEGIN:VTIMEZONE
TZID:Asia/Seoul
BEGIN:STANDARD
TZOFFSETFROM:+0900
TZOFFSETTO:+0900
TZNAME:KST
DTSTART:20230101T000000
END:STANDARD
END:VTIMEZONE
BEGIN:VEVENT
DTSTART;TZID=Asia/Seoul:20240906T140000
DTEND;TZID=Asia/Seoul:20240906T160000
DTSTAMP:20260424T032812
CREATED:20240730T001910Z
LAST-MODIFIED:20240904T030852Z
UID:9905-1725631200-1725638400@www.ibs.re.kr
SUMMARY:Olive Cawiding\, Predicting multiple observations in complex systems through low-dimensional embeddings
DESCRIPTION:In this talk\, we discuss the paper\, “Predicting multiple observations in complex systems through low-dimensional embeddings”\, by Tao Wu et. al.\, Nature Communications\, 2024. \nZoom : https://us06web.zoom.us/j/99567630778?pwd=N2ZrUWtqZzJ0YURVTzlZT3JJR3FUQT09 \nAbstract \nForecasting all components in complex systems is an open and challenging task\, possibly due to high dimensionality and undesirable predictors. We bridge this gap by proposing a data-driven and model-free framework\, namely\, feature-and-reconstructed manifold mapping (FRMM)\, which is a combination of feature embedding and delay embedding. For a high-dimensional dynamical system\, FRMM finds its topologically equivalent manifolds with low dimensions from feature embedding and delay embedding and then sets the low-dimensional feature manifold as a generalized predictor to achieve predictions of all components. The substantial potential of FRMM is shown for both representative models and real-world data involving Indian monsoon\, electroencephalogram (EEG) signals\, foreign exchange market\, and traffic speed in Los Angeles Country. FRMM overcomes the curse of dimensionality and finds a generalized predictor\, and thus has potential for applications in many other real-world systems.
URL:https://www.ibs.re.kr/bimag/event/olive-cawiding-a-flexible-symbolic-regression-method-for-constructing-interpretable-clinical-prediction-models/
LOCATION:B232 Seminar Room\, IBS\, 55 Expo-ro Yuseong-gu\, Daejeon\, Daejeon\, 34126\, Korea\, Republic of
CATEGORIES:Journal Club
ORGANIZER;CN="Jae Kyoung Kim":MAILTO:jaekkim@kaist.ac.kr
END:VEVENT
END:VCALENDAR