BEGIN:VCALENDAR
VERSION:2.0
PRODID:-//Biomedical Mathematics Group - ECPv6.15.20//NONSGML v1.0//EN
CALSCALE:GREGORIAN
METHOD:PUBLISH
X-WR-CALNAME:Biomedical Mathematics Group
X-ORIGINAL-URL:https://www.ibs.re.kr/bimag
X-WR-CALDESC:Events for Biomedical Mathematics Group
REFRESH-INTERVAL;VALUE=DURATION:PT1H
X-Robots-Tag:noindex
X-PUBLISHED-TTL:PT1H
BEGIN:VTIMEZONE
TZID:Asia/Seoul
BEGIN:STANDARD
TZOFFSETFROM:+0900
TZOFFSETTO:+0900
TZNAME:KST
DTSTART:20230101T000000
END:STANDARD
END:VTIMEZONE
BEGIN:VEVENT
DTSTART;TZID=Asia/Seoul:20240322T140000
DTEND;TZID=Asia/Seoul:20240322T160000
DTSTAMP:20260424T135040
CREATED:20240228T010806Z
LAST-MODIFIED:20240326T143602Z
UID:9277-1711116000-1711123200@www.ibs.re.kr
SUMMARY:Seokjoo Chae\, Transcriptome-wide analysis of cell cycle-dependent bursty gene expression from single-cell RNA-seq data using mechanistic model-based inference
DESCRIPTION:We will discuss about “Transcriptome-wide analysis of cell cycle-dependent bursty gene expression from single-cell RNA-seq data using mechanistic model-based inference”\, bioRxiv (2024) \nAbstract \nBursty gene expression is quantified by two intuitive parameters: the burst frequency and the burst size. While these parameters are known to be cell-cycle dependent for some genes\, a transcriptome-wide picture remains missing. Here we address this question by fitting a suite of mechanistic models of gene expression to mRNA count data for thousands of mouse genes\, obtained by sequencing of single cells for which the cell-cycle position has been inferred using a deep-learning approach. This leads to the estimation of the burst frequency and size per allele in the G1 and G2/M cell-cycle phases\, hence providing insight into the global patterns of transcriptional regulation. In particular\, we identify an interesting balancing mechanism: on average\, upon DNA replication\, the burst frequency decreases by ≈ 50%\, while the burst size increases by the same amount. We also show that for accurate estimation of the ratio of burst parameters in the G1 and G2/M phases\, mechanistic models must explicitly account for gene copy number differences between cells but\, surprisingly\, additional corrections for extrinsic noise due to the coupling of transcription to cell age within the cell cycle or technical noise due to imperfect capture of RNA molecules in sequencing experiments are unnecessary. \n 
URL:https://www.ibs.re.kr/bimag/event/2024-03-22-jc/
LOCATION:B232 Seminar Room\, IBS\, 55 Expo-ro Yuseong-gu\, Daejeon\, Daejeon\, 34126\, Korea\, Republic of
CATEGORIES:Journal Club
ORGANIZER;CN="Jae Kyoung Kim":MAILTO:jaekkim@kaist.ac.kr
END:VEVENT
END:VCALENDAR