BEGIN:VCALENDAR
VERSION:2.0
PRODID:-//Biomedical Mathematics Group - ECPv6.15.20//NONSGML v1.0//EN
CALSCALE:GREGORIAN
METHOD:PUBLISH
X-ORIGINAL-URL:https://www.ibs.re.kr/bimag
X-WR-CALDESC:Events for Biomedical Mathematics Group
REFRESH-INTERVAL;VALUE=DURATION:PT1H
X-Robots-Tag:noindex
X-PUBLISHED-TTL:PT1H
BEGIN:VTIMEZONE
TZID:Asia/Seoul
BEGIN:STANDARD
TZOFFSETFROM:+0900
TZOFFSETTO:+0900
TZNAME:KST
DTSTART:20230101T000000
END:STANDARD
END:VTIMEZONE
BEGIN:VEVENT
DTSTART;TZID=Asia/Seoul:20240223T140000
DTEND;TZID=Asia/Seoul:20240223T170000
DTSTAMP:20260424T200933
CREATED:20240127T065045Z
LAST-MODIFIED:20240222T233219Z
UID:9153-1708696800-1708707600@www.ibs.re.kr
SUMMARY:Hyun Kim\, A statistical framework for differential pseudotime analysis with multiple single-cell RNA-seq samples
DESCRIPTION:We will discuss about “A statistical framework for differential pseudotime analysis with multiple single-cell RNA-seq samples\n”\, Nature communications 14.1 (2023): 7286. \n  \nAbstract \n\n\n\nPseudotime analysis with single-cell RNA-sequencing (scRNA-seq) data has been widely used to study dynamic gene regulatory programs along continuous biological processes. While many methods have been developed to infer the pseudotemporal trajectories of cells within a biological sample\, it remains a challenge to compare pseudotemporal patterns with multiple samples (or replicates) across different experimental conditions. Here\, we introduce Lamian\, a comprehensive and statistically-rigorous computational framework for differential multi-sample pseudotime analysis. Lamian can be used to identify changes in a biological process associated with sample covariates\, such as different biological conditions while adjusting for batch effects\, and to detect changes in gene expression\, cell density\, and topology of a pseudotemporal trajectory. Unlike existing methods that ignore sample variability\, Lamian draws statistical inference after accounting for cross-sample variability and hence substantially reduces sample-specific false discoveries that are not generalizable to new samples. Using both real scRNA-seq and simulation data\, including an analysis of differential immune response programs between COVID-19 patients with different disease severity levels\, we demonstrate the advantages of Lamian in decoding cellular gene expression programs in continuous biological processes. \n\n\n\n\n 
URL:https://www.ibs.re.kr/bimag/event/2024-02-23-jc/
LOCATION:B232 Seminar Room\, IBS\, 55 Expo-ro Yuseong-gu\, Daejeon\, Daejeon\, 34126\, Korea\, Republic of
CATEGORIES:Journal Club
ORGANIZER;CN="Jae Kyoung Kim":MAILTO:jaekkim@kaist.ac.kr
END:VEVENT
END:VCALENDAR