BEGIN:VCALENDAR
VERSION:2.0
PRODID:-//Biomedical Mathematics Group - ECPv6.15.20//NONSGML v1.0//EN
CALSCALE:GREGORIAN
METHOD:PUBLISH
X-ORIGINAL-URL:https://www.ibs.re.kr/bimag
X-WR-CALDESC:Events for Biomedical Mathematics Group
REFRESH-INTERVAL;VALUE=DURATION:PT1H
X-Robots-Tag:noindex
X-PUBLISHED-TTL:PT1H
BEGIN:VTIMEZONE
TZID:Asia/Seoul
BEGIN:STANDARD
TZOFFSETFROM:+0900
TZOFFSETTO:+0900
TZNAME:KST
DTSTART:20230101T000000
END:STANDARD
END:VTIMEZONE
BEGIN:VEVENT
DTSTART;TZID=Asia/Seoul:20240216T140000
DTEND;TZID=Asia/Seoul:20240216T170000
DTSTAMP:20260424T200932
CREATED:20240127T064902Z
LAST-MODIFIED:20240215T084643Z
UID:9150-1708092000-1708102800@www.ibs.re.kr
SUMMARY:Olive Cawiding\, Anticipating the occurrence and type of critical transitions
DESCRIPTION:We will discuss about “Anticipating the occurrence and type of critical transitions”\, Science Advances 9.1 (2023): eabq4558. \n  \nAbstract \nCritical transition can occur in many real-world systems. The ability to forecast the occurrence of transition is of major interest in a range of contexts. Various early warning signals (EWSs) have been developed to anticipate the coming critical transition or distinguish types of transition. However\, no effective method allows to establish practical threshold indicating the condition when the critical transition is most likely to occur. Here\, we introduce a powerful EWS\, named dynamical eigenvalue (DEV)\, that is rooted in bifurcation theory of dynamical systems to estimate the dominant eigenvalue of the system. Theoretically\, the absolute value of DEV approaches 1 when the system approaches bifurcation\, while its position in the complex plane indicates the type of transition. We demonstrate the efficacy of the DEV approach in model systems with known bifurcation types and also test the DEV approach on various critical transitions in real-world systems. \n 
URL:https://www.ibs.re.kr/bimag/event/2024-02-16-jc/
LOCATION:B232 Seminar Room\, IBS\, 55 Expo-ro Yuseong-gu\, Daejeon\, Daejeon\, 34126\, Korea\, Republic of
CATEGORIES:Journal Club
ORGANIZER;CN="Jae Kyoung Kim":MAILTO:jaekkim@kaist.ac.kr
END:VEVENT
END:VCALENDAR