BEGIN:VCALENDAR
VERSION:2.0
PRODID:-//Biomedical Mathematics Group - ECPv6.15.20//NONSGML v1.0//EN
CALSCALE:GREGORIAN
METHOD:PUBLISH
X-ORIGINAL-URL:https://www.ibs.re.kr/bimag
X-WR-CALDESC:Events for Biomedical Mathematics Group
REFRESH-INTERVAL;VALUE=DURATION:PT1H
X-Robots-Tag:noindex
X-PUBLISHED-TTL:PT1H
BEGIN:VTIMEZONE
TZID:Asia/Seoul
BEGIN:STANDARD
TZOFFSETFROM:+0900
TZOFFSETTO:+0900
TZNAME:KST
DTSTART:20220101T000000
END:STANDARD
END:VTIMEZONE
BEGIN:VEVENT
DTSTART;TZID=Asia/Seoul:20231229T140000
DTEND;TZID=Asia/Seoul:20231229T160000
DTSTAMP:20260425T071705
CREATED:20231130T085100Z
LAST-MODIFIED:20231228T025820Z
UID:8756-1703858400-1703865600@www.ibs.re.kr
SUMMARY:Hyun Kim\, MultiVI: deep generative model for the integration of multimodal data
DESCRIPTION:We will discuss about “MultiVI: deep generative model for the integration of multimodal data” Nature Methods 20.8 (2023): 1222-1231. \nAbstract \n\n\n\nJointly profiling the transcriptome\, chromatin accessibility and other molecular properties of single cells offers a powerful way to study cellular diversity. Here we present MultiVI\, a probabilistic model to analyze such multiomic data and leverage it to enhance single-modality datasets. MultiVI creates a joint representation that allows an analysis of all modalities included in the multiomic input data\, even for cells for which one or more modalities are missing. It is available at scvi-tools.org.
URL:https://www.ibs.re.kr/bimag/event/2023-12-29-jc/
LOCATION:B378 Seminar room\, IBS\, 55 Expo-ro Yuseong-gu\, Daejeon\, 34126\, Korea\, Republic of
CATEGORIES:Journal Club
ORGANIZER;CN="Jae Kyoung Kim":MAILTO:jaekkim@kaist.ac.kr
END:VEVENT
END:VCALENDAR