BEGIN:VCALENDAR
VERSION:2.0
PRODID:-//Biomedical Mathematics Group - ECPv6.15.20//NONSGML v1.0//EN
CALSCALE:GREGORIAN
METHOD:PUBLISH
X-WR-CALNAME:Biomedical Mathematics Group
X-ORIGINAL-URL:https://www.ibs.re.kr/bimag
X-WR-CALDESC:Events for Biomedical Mathematics Group
REFRESH-INTERVAL;VALUE=DURATION:PT1H
X-Robots-Tag:noindex
X-PUBLISHED-TTL:PT1H
BEGIN:VTIMEZONE
TZID:Asia/Seoul
BEGIN:STANDARD
TZOFFSETFROM:+0900
TZOFFSETTO:+0900
TZNAME:KST
DTSTART:20220101T000000
END:STANDARD
END:VTIMEZONE
BEGIN:VEVENT
DTSTART;TZID=Asia/Seoul:20231215T140000
DTEND;TZID=Asia/Seoul:20231215T160000
DTSTAMP:20260425T072655
CREATED:20231130T085305Z
LAST-MODIFIED:20231214T000605Z
UID:8758-1702648800-1702656000@www.ibs.re.kr
SUMMARY:Yun Min Song\, Pulsed stimuli entrain p53 to synchronize single cells and modulate cell-fate determination
DESCRIPTION:We will discuss about “Pulsed stimuli entrain p53 to synchronize single cells and modulate cell-fate determination” bioRxiv (2023): 2023-10. \nAbstract \n\n\nEntrainment to an external stimulus enables a synchronized oscillatory response across a population of cells\, increasing coherent responses by reducing cell-to-cell heterogeneity. It is unclear whether the property of entrainability extends to systems where responses are intrinsic to the individual cell\, rather than dependent on coherence across a population of cells. Using a combination of mathematical modeling\, time-lapse fluorescence microscopy\, and single-cell tracking\, we demonstrated that p53 oscillations triggered by DNA double-strand breaks (DSBs) can be entrained with a periodic damage stimulus\, despite such synchrony not known to function in effective DNA damage responses. Surprisingly\, p53 oscillations were experimentally entrained over a wider range of DSB frequencies than predicted by an established computational model for the system. We determined that recapitulating the increased range of entrainment frequencies required\, non-intuitively\, a less robust oscillator and wider steady-state valley on the energy landscape. Further\, we show that p53 entrainment can lead to altered expression dynamics of downstream targets responsible for cell fate in a manner dependent on target mRNA stability. Overall\, this study demonstrates that entrainment can occur in a biological oscillator despite the apparent lack of an evolutionary advantage conferred through synchronized responses and highlights the potential of externally entraining p53 dynamics to reduce cellular variability and synchronize cell-fate responses for therapeutic outcomes.
URL:https://www.ibs.re.kr/bimag/event/2023-12-15-jc/
LOCATION:B378 Seminar room\, IBS\, 55 Expo-ro Yuseong-gu\, Daejeon\, 34126\, Korea\, Republic of
CATEGORIES:Journal Club
ORGANIZER;CN="Jae Kyoung Kim":MAILTO:jaekkim@kaist.ac.kr
END:VEVENT
END:VCALENDAR