BEGIN:VCALENDAR
VERSION:2.0
PRODID:-//Biomedical Mathematics Group - ECPv6.15.20//NONSGML v1.0//EN
CALSCALE:GREGORIAN
METHOD:PUBLISH
X-ORIGINAL-URL:https://www.ibs.re.kr/bimag
X-WR-CALDESC:Events for Biomedical Mathematics Group
REFRESH-INTERVAL;VALUE=DURATION:PT1H
X-Robots-Tag:noindex
X-PUBLISHED-TTL:PT1H
BEGIN:VTIMEZONE
TZID:Asia/Seoul
BEGIN:STANDARD
TZOFFSETFROM:+0900
TZOFFSETTO:+0900
TZNAME:KST
DTSTART:20220101T000000
END:STANDARD
END:VTIMEZONE
BEGIN:VEVENT
DTSTART;TZID=Asia/Seoul:20231201T140000
DTEND;TZID=Asia/Seoul:20231201T160000
DTSTAMP:20260425T071705
CREATED:20231030T040908Z
LAST-MODIFIED:20231114T081702Z
UID:8665-1701439200-1701446400@www.ibs.re.kr
SUMMARY:Eui Min Jung\, Hard Limits and Performance Tradeoffs in a Class of Antithetic Integral Feedback Networks
DESCRIPTION:We will discuss about “Hard limits and performance tradeoffs in a class of antithetic integral feedback networks.” Cell systems 9.1 (2019): 49-63. \nAbstract \n\nFeedback regulation is pervasive in biology at both the organismal and cellular level. In this article\, we explore the properties of a particular biomolecular feedback mechanism called antithetic integral feedback\, which can be implemented using the binding of two molecules. Our work develops an analytic framework for understanding the hard limits\, performance tradeoffs\, and architectural properties of this simple model of biological feedback control. Using tools from control theory\, we show that there are simple parametric relationships that determine both the stability and the performance of these systems in terms of speed\, robustness\, steady-state error\, and leakiness. These findings yield a holistic understanding of the behavior of antithetic integral feedback and contribute to a more general theory of biological control systems.
URL:https://www.ibs.re.kr/bimag/event/2023-12-01-jc/
LOCATION:B378 Seminar room\, IBS\, 55 Expo-ro Yuseong-gu\, Daejeon\, 34126\, Korea\, Republic of
CATEGORIES:Journal Club
ORGANIZER;CN="Jae Kyoung Kim":MAILTO:jaekkim@kaist.ac.kr
END:VEVENT
END:VCALENDAR