BEGIN:VCALENDAR
VERSION:2.0
PRODID:-//Biomedical Mathematics Group - ECPv6.15.20//NONSGML v1.0//EN
CALSCALE:GREGORIAN
METHOD:PUBLISH
X-ORIGINAL-URL:https://www.ibs.re.kr/bimag
X-WR-CALDESC:Events for Biomedical Mathematics Group
REFRESH-INTERVAL;VALUE=DURATION:PT1H
X-Robots-Tag:noindex
X-PUBLISHED-TTL:PT1H
BEGIN:VTIMEZONE
TZID:Asia/Seoul
BEGIN:STANDARD
TZOFFSETFROM:+0900
TZOFFSETTO:+0900
TZNAME:KST
DTSTART:20220101T000000
END:STANDARD
END:VTIMEZONE
BEGIN:VEVENT
DTSTART;TZID=Asia/Seoul:20230414T140000
DTEND;TZID=Asia/Seoul:20230414T160000
DTSTAMP:20260425T233705
CREATED:20230331T040622Z
LAST-MODIFIED:20230413T085616Z
UID:7564-1681480800-1681488000@www.ibs.re.kr
SUMMARY:Hyun Kim\, Comparison of transformations for single-cell RNA-seq data
DESCRIPTION:We will discuss about “Comparison of transformations for single-cell RNA-seq data”\,Ahlmann-Eltze\, Constantin\, and Wolfgang Huber\, Nature Methods (2023): 1-8. \nAbstract \n\n\n\nThe count table\, a numeric matrix of genes × cells\, is the basic input data structure in the analysis of single-cell RNA-sequencing data. A common preprocessing step is to adjust the counts for variable sampling efficiency and to transform them so that the variance is similar across the dynamic range. These steps are intended to make subsequent application of generic statistical methods more palatable. Here\, we describe four transformation approaches based on the delta method\, model residuals\, inferred latent expression state and factor analysis. We compare their strengths and weaknesses and find that the latter three have appealing theoretical properties; however\, in benchmarks using simulated and real-world data\, it turns out that a rather simple approach\, namely\, the logarithm with a pseudo-count followed by principal-component analysis\, performs as well or better than the more sophisticated alternatives. This result highlights limitations of current theoretical analysis as assessed by bottom-line performance benchmarks.
URL:https://www.ibs.re.kr/bimag/event/2023-04-14-jc/
LOCATION:B378 Seminar room\, IBS\, 55 Expo-ro Yuseong-gu\, Daejeon\, 34126\, Korea\, Republic of
CATEGORIES:Journal Club
ORGANIZER;CN="Jae Kyoung Kim":MAILTO:jaekkim@kaist.ac.kr
END:VEVENT
END:VCALENDAR