BEGIN:VCALENDAR
VERSION:2.0
PRODID:-//Biomedical Mathematics Group - ECPv6.15.20//NONSGML v1.0//EN
CALSCALE:GREGORIAN
METHOD:PUBLISH
X-WR-CALNAME:Biomedical Mathematics Group
X-ORIGINAL-URL:https://www.ibs.re.kr/bimag
X-WR-CALDESC:Events for Biomedical Mathematics Group
REFRESH-INTERVAL;VALUE=DURATION:PT1H
X-Robots-Tag:noindex
X-PUBLISHED-TTL:PT1H
BEGIN:VTIMEZONE
TZID:Asia/Seoul
BEGIN:STANDARD
TZOFFSETFROM:+0900
TZOFFSETTO:+0900
TZNAME:KST
DTSTART:20220101T000000
END:STANDARD
END:VTIMEZONE
BEGIN:VEVENT
DTSTART;TZID=Asia/Seoul:20230324T140000
DTEND;TZID=Asia/Seoul:20230324T160000
DTSTAMP:20260426T011349
CREATED:20230228T075941Z
LAST-MODIFIED:20230228T075941Z
UID:7395-1679666400-1679673600@www.ibs.re.kr
SUMMARY:Candan Celik\, The effect of microRNA on protein variability and gene expression fidelity
DESCRIPTION:We will discuss about “The effect of microRNA on protein variability and gene expression fidelity”\, Hilfinger\, Andreas\, and Raymond Fan.\, Biophysical journal 122.3 (2023): 537a. \nAbstract \n\nSmall regulatory RNA molecules such as microRNA modulate gene expression through inhibiting the translation of messenger RNA (mRNA). Such post-transcriptional regulation has been recently hypothesized to reduce the stochastic variability of gene expression around average levels. Here we quantify noise in stochastic gene expression models with and without such regulation. Our results suggest that silencing mRNA post-transcriptionally will always increase rather than decrease gene expression noise when the silencing of mRNA also increases its degradation as is expected for microRNA interactions with mRNA. In that regime we also find that silencing mRNA generally reduces the fidelity of signal transmission from deterministically varying upstream factors to protein levels. These findings suggest that microRNA binding to mRNA does not generically confer precision to protein expression
URL:https://www.ibs.re.kr/bimag/event/2023-03-24-jc/
LOCATION:B378 Seminar room\, IBS\, 55 Expo-ro Yuseong-gu\, Daejeon\, 34126\, Korea\, Republic of
CATEGORIES:Journal Club
ORGANIZER;CN="Jae Kyoung Kim":MAILTO:jaekkim@kaist.ac.kr
END:VEVENT
END:VCALENDAR