BEGIN:VCALENDAR
VERSION:2.0
PRODID:-//Biomedical Mathematics Group - ECPv6.15.20//NONSGML v1.0//EN
CALSCALE:GREGORIAN
METHOD:PUBLISH
X-WR-CALNAME:Biomedical Mathematics Group
X-ORIGINAL-URL:https://www.ibs.re.kr/bimag
X-WR-CALDESC:Events for Biomedical Mathematics Group
REFRESH-INTERVAL;VALUE=DURATION:PT1H
X-Robots-Tag:noindex
X-PUBLISHED-TTL:PT1H
BEGIN:VTIMEZONE
TZID:Asia/Seoul
BEGIN:STANDARD
TZOFFSETFROM:+0900
TZOFFSETTO:+0900
TZNAME:KST
DTSTART:20220101T000000
END:STANDARD
END:VTIMEZONE
BEGIN:VEVENT
DTSTART;TZID=Asia/Seoul:20230303T140000
DTEND;TZID=Asia/Seoul:20230303T160000
DTSTAMP:20260426T011433
CREATED:20230127T063333Z
LAST-MODIFIED:20230130T080633Z
UID:7280-1677852000-1677859200@www.ibs.re.kr
SUMMARY:Seho Park\, Dynamical information enables inference of gene regulation at single-cell scale
DESCRIPTION:We will discuss about “Dynamical information enables inference of gene regulation at single-cell scale”\, Zhang\, Stephen Y.\, and Michael PH Stumpf.\, bioRxiv (2023): 2023-01. \nAbstract \n\nCellular dynamics and emerging biological function are governed by patterns of gene expression arising from networks of interacting genes. Inferring these interactions from data is a notoriously difficult inverse problem that is central to systems biology. The majority of existing network inference methods work at the population level and construct a static representations of gene regulatory networks; they do not naturally allow for inference of differential regulation across a heterogeneous cell population. Building upon recent dynamical inference methods that model single cell dynamics using Markov processes\, we propose locaTE\, an information-theoretic approach which employs a localised transfer entropy to infer cell-specific\, causal gene regulatory networks. LocaTE uses high-resolution estimates of dynamics and geometry of the cellular gene expression manifold to inform inference of regulatory interactions. We find that this approach is generally superior to using static inference methods\, often by a significant margin. We demonstrate that factor analysis can give detailed insights into the inferred cell-specific GRNs. In application to two experimental datasets\, we recover key transcription factors and regulatory interactions that drive mouse primitive endoderm formation and pancreatic development. For both simulated and experimental data\, locaTE provides a powerful\, efficient and scalable network inference method that allows us to distil cell-specific networks from single cell data.
URL:https://www.ibs.re.kr/bimag/event/2023-03-03-jc/
LOCATION:B378 Seminar room\, IBS\, 55 Expo-ro Yuseong-gu\, Daejeon\, 34126\, Korea\, Republic of
CATEGORIES:Journal Club
ORGANIZER;CN="Jae Kyoung Kim":MAILTO:jaekkim@kaist.ac.kr
END:VEVENT
END:VCALENDAR