BEGIN:VCALENDAR
VERSION:2.0
PRODID:-//Biomedical Mathematics Group - ECPv6.15.20//NONSGML v1.0//EN
CALSCALE:GREGORIAN
METHOD:PUBLISH
X-WR-CALNAME:Biomedical Mathematics Group
X-ORIGINAL-URL:https://www.ibs.re.kr/bimag
X-WR-CALDESC:Events for Biomedical Mathematics Group
REFRESH-INTERVAL;VALUE=DURATION:PT1H
X-Robots-Tag:noindex
X-PUBLISHED-TTL:PT1H
BEGIN:VTIMEZONE
TZID:Asia/Seoul
BEGIN:STANDARD
TZOFFSETFROM:+0900
TZOFFSETTO:+0900
TZNAME:KST
DTSTART:20220101T000000
END:STANDARD
END:VTIMEZONE
BEGIN:VEVENT
DTSTART;TZID=Asia/Seoul:20230112T130000
DTEND;TZID=Asia/Seoul:20230112T150000
DTSTAMP:20260426T044145
CREATED:20221228T005748Z
LAST-MODIFIED:20230108T080223Z
UID:7183-1673528400-1673535600@www.ibs.re.kr
SUMMARY:Hyun Kim\, Topological Data Analysis in Time Series: Temporal Filtration and Application to Single-Cell Genomics
DESCRIPTION:We will discuss about “Topological Data Analysis in Time Series: Temporal Filtration and Application to Single-Cell Genomics”\n\, Lin\, Baihan.\, arXiv preprint arXiv:2204.14048 (2022). \nAbstract \n\nThe absence of a conventional association between the cell-cell cohabitation and its emergent dynamics into cliques during development has hindered our understanding of how cell populations proliferate\, differentiate\, and compete\, i.e. the cell ecology. With the recent advancement of the single-cell RNA-sequencing (RNA-seq)\, we can potentially describe such a link by constructing network graphs that characterize the similarity of the gene expression profiles of the cell-specific transcriptional programs\, and analyzing these graphs systematically using the summary statistics informed by the algebraic topology. We propose the single-cell topological simplicial analysis (scTSA). Applying this approach to the single-cell gene expression profiles from local networks of cells in different developmental stages with different outcomes reveals a previously unseen topology of cellular ecology. These networks contain an abundance of cliques of single-cell profiles bound into cavities that guide the emergence of more complicated habitation forms. We visualize these ecological patterns with topological simplicial architectures of these networks\, compared with the null models. Benchmarked on the single-cell RNA-seq data of zebrafish embryogenesis spanning 38\,731 cells\, 25 cell types and 12 time steps\, our approach highlights the gastrulation as the most critical stage\, consistent with consensus in developmental biology. As a nonlinear\, model-independent\, and unsupervised framework\, our approach can also be applied to tracing multi-scale cell lineage\, identifying critical stages\, or creating pseudo-time series.
URL:https://www.ibs.re.kr/bimag/event/2023-01-13-jc/
LOCATION:B232 Seminar Room\, IBS\, 55 Expo-ro Yuseong-gu\, Daejeon\, Daejeon\, 34126\, Korea\, Republic of
CATEGORIES:Journal Club
ORGANIZER;CN="Jae Kyoung Kim":MAILTO:jaekkim@kaist.ac.kr
END:VEVENT
END:VCALENDAR