BEGIN:VCALENDAR
VERSION:2.0
PRODID:-//Biomedical Mathematics Group - ECPv6.15.20//NONSGML v1.0//EN
CALSCALE:GREGORIAN
METHOD:PUBLISH
X-WR-CALNAME:Biomedical Mathematics Group
X-ORIGINAL-URL:https://www.ibs.re.kr/bimag
X-WR-CALDESC:Events for Biomedical Mathematics Group
REFRESH-INTERVAL;VALUE=DURATION:PT1H
X-Robots-Tag:noindex
X-PUBLISHED-TTL:PT1H
BEGIN:VTIMEZONE
TZID:Asia/Seoul
BEGIN:STANDARD
TZOFFSETFROM:+0900
TZOFFSETTO:+0900
TZNAME:KST
DTSTART:20220101T000000
END:STANDARD
END:VTIMEZONE
BEGIN:VEVENT
DTSTART;TZID=Asia/Seoul:20230106T150000
DTEND;TZID=Asia/Seoul:20230106T170000
DTSTAMP:20260426T064111
CREATED:20221227T081429Z
LAST-MODIFIED:20230102T121025Z
UID:7178-1673017200-1673024400@www.ibs.re.kr
SUMMARY:Aurelio A. de los Reyes V\, Bayesian Physics Informed Neural Networks for real-world nonlinear dynamical systems
DESCRIPTION:We will discuss about “Bayesian Physics Informed Neural Networks for real-world nonlinear dynamical systems”\, Linka\, Kevin\, et al.\, Computer Methods in Applied Mechanics and Engineering Volume 402\, 1 December 2022\, 115346 \nAbstract \n\n\n\n\nUnderstanding real-world dynamical phenomena remains a challenging task. Across various scientific disciplines\, machine learning has advanced as the go-to technology to analyze nonlinear dynamical systems\, identify patterns in big data\, and make decision around them. Neural networks are now consistently used as universal function approximators for data with underlying mechanisms that are incompletely understood or exceedingly complex. However\, neural networks alone ignore the fundamental laws of physics and often fail to make plausible predictions. Here we integrate data\, physics\, and uncertainties by combining neural networks\, physics informed modeling\, and Bayesian inference to improve the predictive potential of traditional neural network models. We embed the physical model of a damped harmonic oscillator into a fully-connected feed-forward neural network to explore a simple and illustrative model system\, the outbreak dynamics of COVID-19. Our Physics Informed Neural Networks seamlessly integrate data and physics\, robustly solve forward and inverse problems\, and perform well for both interpolation and extrapolation\, even for a small amount of noisy and incomplete data. At only minor additional cost\, they self-adaptively learn the weighting between data and physics. They can serve as priors in a Bayesian Inference\, and provide credible intervals for uncertainty quantification. Our study reveals the inherent advantages and disadvantages of Neural Networks\, Bayesian Inference\, and a combination of both and provides valuable guidelines for model selection. While we have only demonstrated these different approaches for the simple model problem of a seasonal endemic infectious disease\, we anticipate that the underlying concepts and trends generalize to more complex disease conditions and\, more broadly\, to a wide variety of nonlinear dynamical systems. Our source code and examples are available at https://github.com/LivingMatterLab/xPINNs.
URL:https://www.ibs.re.kr/bimag/event/2023-01-06-jc/
LOCATION:B232 Seminar Room\, IBS\, 55 Expo-ro Yuseong-gu\, Daejeon\, Daejeon\, 34126\, Korea\, Republic of
CATEGORIES:Journal Club
ORGANIZER;CN="Jae Kyoung Kim":MAILTO:jaekkim@kaist.ac.kr
END:VEVENT
END:VCALENDAR