BEGIN:VCALENDAR
VERSION:2.0
PRODID:-//Biomedical Mathematics Group - ECPv6.15.20//NONSGML v1.0//EN
CALSCALE:GREGORIAN
METHOD:PUBLISH
X-WR-CALNAME:Biomedical Mathematics Group
X-ORIGINAL-URL:https://www.ibs.re.kr/bimag
X-WR-CALDESC:Events for Biomedical Mathematics Group
REFRESH-INTERVAL;VALUE=DURATION:PT1H
X-Robots-Tag:noindex
X-PUBLISHED-TTL:PT1H
BEGIN:VTIMEZONE
TZID:Asia/Seoul
BEGIN:STANDARD
TZOFFSETFROM:+0900
TZOFFSETTO:+0900
TZNAME:KST
DTSTART:20210101T000000
END:STANDARD
END:VTIMEZONE
BEGIN:VEVENT
DTSTART;TZID=Asia/Seoul:20221202T150000
DTEND;TZID=Asia/Seoul:20221202T170000
DTSTAMP:20260426T082528
CREATED:20221128T010402Z
LAST-MODIFIED:20221128T010402Z
UID:6906-1669993200-1670000400@www.ibs.re.kr
SUMMARY:Multiparameter persistent homology landscapes identify immune cell spatial patterns in tumors
DESCRIPTION:We will discuss about “Multiparameter persistent homology landscapes identify immune cell spatial patterns in tumors”\, Vipond\, Oliver\, et al\, Proceedings of the National Academy of Sciences 118.41 (2021): e2102166118. \nAbstract\nHighly resolved spatial data of complex systems encode rich and nonlinear information. Quantification of heterogeneous and noisy data—often with outliers\, artifacts\, and mislabeled points—such as those from tissues\, remains a challenge. The mathematical field that extracts information from the shape of data\, topological data analysis (TDA)\, has expanded its capability for analyzing real-world datasets in recent years by extending theory\, statistics\, and computation. An extension to the standard theory to handle heterogeneous data is multiparameter persistent homology (MPH). Here we provide an application of MPH landscapes\, a statistical tool with theoretical underpinnings. MPH landscapes\, computed for (noisy) data from agent-basedMultiparameter persistent homology landscapes identify immune cell spatial patterns in tumors model simulations of immune cells infiltrating into a spheroid\, are shown to surpass existing spatial statistics and one-parameter persistent homology. We then apply MPH landscapes to study immune cell location in digital histology images from head and neck cancer. We quantify intratumoral immune cells and find that infiltrating regulatory T cells have more prominent voids in their spatial patterns than macrophages. Finally\, we consider how TDA can integrate and interrogate data of different types and scales\, e.g.\, immune cell locations and regions with differing levels of oxygenation. This work highlights the power of MPH landscapes for quantifying\, characterizing\, and comparing features within the tumor microenvironment in synthetic and real datasets.
URL:https://www.ibs.re.kr/bimag/event/2022-12-02-jc/
LOCATION:B378 Seminar room\, IBS\, 55 Expo-ro Yuseong-gu\, Daejeon\, 34126\, Korea\, Republic of
CATEGORIES:Journal Club
ORGANIZER;CN="Jae Kyoung Kim":MAILTO:jaekkim@kaist.ac.kr
END:VEVENT
END:VCALENDAR