BEGIN:VCALENDAR
VERSION:2.0
PRODID:-//Biomedical Mathematics Group - ECPv6.15.20//NONSGML v1.0//EN
CALSCALE:GREGORIAN
METHOD:PUBLISH
X-ORIGINAL-URL:https://www.ibs.re.kr/bimag
X-WR-CALDESC:Events for Biomedical Mathematics Group
REFRESH-INTERVAL;VALUE=DURATION:PT1H
X-Robots-Tag:noindex
X-PUBLISHED-TTL:PT1H
BEGIN:VTIMEZONE
TZID:Asia/Seoul
BEGIN:STANDARD
TZOFFSETFROM:+0900
TZOFFSETTO:+0900
TZNAME:KST
DTSTART:20230101T000000
END:STANDARD
END:VTIMEZONE
BEGIN:VEVENT
DTSTART;TZID=Asia/Seoul:20241213T140000
DTEND;TZID=Asia/Seoul:20241213T160000
DTSTAMP:20260423T185308
CREATED:20241209T000818Z
LAST-MODIFIED:20241209T000818Z
UID:10337-1734098400-1734105600@www.ibs.re.kr
SUMMARY:Laplacian renormalization group for heterogeneous networks - Gyuyoung Hwang
DESCRIPTION:In this talk\, we study and discuss the paper “Laplacian renormalization group for heterogeneous networks” by Pablo Villegas et.al\, Nature Physics\, 2023. \nAbstract  \nThe renormalization group is the cornerstone of the modern theory of universality and phase transitions and it is a powerful tool to scrutinize symmetries and organizational scales in dynamical systems. However\, its application to complex networks has proven particularly challenging\, owing to correlations between intertwined scales. To date\, existing approaches have been based on hidden geometries hypotheses\, which rely on the embedding of complex networks into underlying hidden metric spaces. Here we propose a Laplacian renormalization group diffusion-based picture for complex networks\, which is able to identify proper spatiotemporal scales in heterogeneous networks. In analogy with real-space renormalization group procedures\, we first introduce the concept of Kadanoff supernodes as block nodes across multiple scales\, which helps to overcome detrimental small-world effects that are responsible for cross-scale correlations. We then rigorously define the momentum space procedure to progressively integrate out fast diffusion modes and generate coarse-grained graphs. We validate the method through application to several real-world networks\, demonstrating its ability to perform network reduction keeping crucial properties of the systems intact.
URL:https://www.ibs.re.kr/bimag/event/laplacian-renormalization-group-for-heterogeneous-networks-gyuyoung-hwang/
LOCATION:B232 Seminar Room\, IBS\, 55 Expo-ro Yuseong-gu\, Daejeon\, Daejeon\, 34126\, Korea\, Republic of
CATEGORIES:Journal Club
ORGANIZER;CN="Jae Kyoung Kim":MAILTO:jaekkim@kaist.ac.kr
END:VEVENT
BEGIN:VEVENT
DTSTART;TZID=Asia/Seoul:20241220T140000
DTEND;TZID=Asia/Seoul:20241220T160000
DTSTAMP:20260423T185308
CREATED:20241209T001156Z
LAST-MODIFIED:20241219T012147Z
UID:10339-1734703200-1734710400@www.ibs.re.kr
SUMMARY:cellFlow: a generative flow-based model for single-cell count data - Hyun Kim
DESCRIPTION:In this talk\, we discuss the paper “cellFlow: a generative flow-based model for single-cell count data” by A. Palma et.al\, ICLR\, 2024. \nAbstract  \nGenerative modeling for single-cell RNA-seq has proven transformative in crucial fields such as learning single-cell representations and perturbation responses. However\, despite their appeal in relevant applications involving data augmentation and unseen cell state prediction\, use cases like generating artificial biological samples are still in their pioneering phase. While common approaches producing single-cell samples from noise operate in continuous space by assuming normalized gene expression\, we argue for the necessity of sample generation in a raw transcription count space to favor processing-agnostic data generation and flexible downstream applications. To this end\, we propose cellFlow\, a Flow-Matching-based model that generates single-cell count data. In our empirical study\, cellFlow performs on par with existing methods operating on normalized data when evaluated on three biological datasets. By carefully considering raw single-cell distributional properties\, cellFlow is a promising avenue for future developments in single-cell generative models.
URL:https://www.ibs.re.kr/bimag/event/qclus-a-droplet-filtering-algorithm-for-enhanced-snrna-seq-data-quality-in-challenging-samples-hyun-kim/
LOCATION:B232 Seminar Room\, IBS\, 55 Expo-ro Yuseong-gu\, Daejeon\, Daejeon\, 34126\, Korea\, Republic of
CATEGORIES:Journal Club
ORGANIZER;CN="Jae Kyoung Kim":MAILTO:jaekkim@kaist.ac.kr
END:VEVENT
END:VCALENDAR