BEGIN:VCALENDAR
VERSION:2.0
PRODID:-//Biomedical Mathematics Group - ECPv6.15.20//NONSGML v1.0//EN
CALSCALE:GREGORIAN
METHOD:PUBLISH
X-WR-CALNAME:Biomedical Mathematics Group
X-ORIGINAL-URL:https://www.ibs.re.kr/bimag
X-WR-CALDESC:Events for Biomedical Mathematics Group
REFRESH-INTERVAL;VALUE=DURATION:PT1H
X-Robots-Tag:noindex
X-PUBLISHED-TTL:PT1H
BEGIN:VTIMEZONE
TZID:Asia/Seoul
BEGIN:STANDARD
TZOFFSETFROM:+0900
TZOFFSETTO:+0900
TZNAME:KST
DTSTART:20230101T000000
END:STANDARD
END:VTIMEZONE
BEGIN:VEVENT
DTSTART;TZID=Asia/Seoul:20241004T140000
DTEND;TZID=Asia/Seoul:20241004T160000
DTSTAMP:20260424T000711
CREATED:20240827T002008Z
LAST-MODIFIED:20241002T001729Z
UID:9960-1728050400-1728057600@www.ibs.re.kr
SUMMARY:Dongju Lim\, Mathematical model for the distribution of DNA replication origins
DESCRIPTION:In this talk we discuss the paper “Mathematical model for the distribution of DNA replication origins” by Alessandro de Moura and Jens Karschau\, Physical Review E\, 2024. \nAbstract  \nDNAreplication in yeast and in many other organisms starts from well-defined locations on the DNA known as replication origins. The spatial distribution of these origins in the genome is particularly important in ensuring that replication is completed quickly. Cells are more vulnerable to DNA damage and other forms of stress while they are replicating their genome. This raises the possibility that the spatial distribution of origins is under selection pressure. In this paper we investigate the hypothesis that natural selection favors origin distributions leading to shorter replication times. Using a simple mathematical model\, we show that this hypothesis leads to two main predictions about the origin distributions: that neighboring origins that are inefficient (less likely to fire) are more likely to be close to each other than efficient origins; and that neighboring origins with larger differences in firing times are more likely to be close to each other than origins with similar firing times. We test these predictions using next-generation sequencing data\, and show that they are both supported by the data.
URL:https://www.ibs.re.kr/bimag/event/dongju-lim-analysis-of-a-detailed-multi-stage-model-of-stochastic-gene-expression-using-queueing-theory-and-model-reduction/
LOCATION:B232 Seminar Room\, IBS\, 55 Expo-ro Yuseong-gu\, Daejeon\, Daejeon\, 34126\, Korea\, Republic of
CATEGORIES:Journal Club
ORGANIZER;CN="Jae Kyoung Kim":MAILTO:jaekkim@kaist.ac.kr
END:VEVENT
BEGIN:VEVENT
DTSTART;TZID=Asia/Seoul:20241011T140000
DTEND;TZID=Asia/Seoul:20241011T160000
DTSTAMP:20260424T000711
CREATED:20240923T012824Z
LAST-MODIFIED:20240923T012824Z
UID:10095-1728655200-1728662400@www.ibs.re.kr
SUMMARY:Eui Min Jeong\, A frequency-amplitude coordinator and its optimal energy consumption for biological oscillators
DESCRIPTION:In this talk\, we discuss the paper\, “A frequency-amplitude coordinator and its optimal energy consumption for biological oscillators”\, by Bo-Wei Qin et. al.\, Nature Communications\, 2021. \nZoom : https://us06web.zoom.us/j/99567630778?pwd=N2ZrUWtqZzJ0YURVTzlZT3JJR3FUQT09 \nAbstract  \nBiorhythm including neuron firing and protein-mRNA interaction are fundamental activities with diffusive effect. Their well-balanced spatiotemporal dynamics are beneficial for healthy sustainability. Therefore\, calibrating both anomalous frequency and amplitude of biorhythm prevents physiological dysfunctions or diseases. However\, many works were devoted to modulate frequency exclusively whereas amplitude is usually ignored\, although both quantities are equally significant for coordinating biological functions and outputs. Especially\, a feasible method coordinating the two quantities concurrently and precisely is still lacking. Here\, for the first time\, we propose a universal approach to design a frequency-amplitude coordinator rigorously via dynamical systems tools. We consider both spatial and temporal information. With a single well-designed coordinator\, they can be calibrated to desired levels simultaneously and precisely. The practical usefulness and efficacy of our method are demonstrated in representative neuronal and gene regulatory models. We further reveal its fundamental mechanism and optimal energy consumption providing inspiration for biorhythm regulation in future.
URL:https://www.ibs.re.kr/bimag/event/eui-min-jeong-a-frequency-amplitude-coordinator-and-its-optimal-energy-consumption-for-biological-oscillators/
LOCATION:Daejeon
CATEGORIES:Journal Club
ORGANIZER;CN="Jae Kyoung Kim":MAILTO:jaekkim@kaist.ac.kr
END:VEVENT
BEGIN:VEVENT
DTSTART;TZID=Asia/Seoul:20241025T140000
DTEND;TZID=Asia/Seoul:20241025T150000
DTSTAMP:20260424T000711
CREATED:20241011T003836Z
LAST-MODIFIED:20241015T003252Z
UID:10162-1729864800-1729868400@www.ibs.re.kr
SUMMARY:Yun Min Song - Noise robustness and metabolic load determine the principles of central dogma regulation
DESCRIPTION:In this talk\, we discuss the paper : “Noise robustness and metabolic load determine the principles of central dogma regulation” by Teresa W. Lo et al\, Sci. Adv\, https://doi.org/10.1126/sciadv.ado3095. \nZoom: https://us06web.zoom.us/j/99567630778?pwd=N2ZrUWtqZzJ0YURVTzlZT3JJR3FUQT09 \nAbstract \nThe processes of gene expression are inherently stochastic\, even for essential genes required for growth. How does the cell maximize fitness in light of noise? To answer this question\, we build a mathematical model to explore the trade-off between metabolic load and growth robustness. The model provides insights for principles of central dogma regulation: Optimal protein expression levels for many genes are in vast overabundance. Essential genes are transcribed above a lower limit of one message per cell cycle. Gene expression is achieved by load balancing between transcription and translation. We present evidence that each of these regulatory principles is observed. These results reveal that robustness and metabolic load determine the global regulatory principles that govern gene expression processes\, and these principles have broad implications for cellular function. \n 
URL:https://www.ibs.re.kr/bimag/event/yun-min-song-noise-robustness-and-metabolic-load-determine-the-principles-of-central-dogma-regulation/
LOCATION:Daejeon
CATEGORIES:Journal Club
ORGANIZER;CN="Jae Kyoung Kim":MAILTO:jaekkim@kaist.ac.kr
END:VEVENT
END:VCALENDAR