BEGIN:VCALENDAR
VERSION:2.0
PRODID:-//Biomedical Mathematics Group - ECPv6.15.20//NONSGML v1.0//EN
CALSCALE:GREGORIAN
METHOD:PUBLISH
X-ORIGINAL-URL:https://www.ibs.re.kr/bimag
X-WR-CALDESC:Events for Biomedical Mathematics Group
REFRESH-INTERVAL;VALUE=DURATION:PT1H
X-Robots-Tag:noindex
X-PUBLISHED-TTL:PT1H
BEGIN:VTIMEZONE
TZID:Asia/Seoul
BEGIN:STANDARD
TZOFFSETFROM:+0900
TZOFFSETTO:+0900
TZNAME:KST
DTSTART:20230101T000000
END:STANDARD
END:VTIMEZONE
BEGIN:VEVENT
DTSTART;TZID=Asia/Seoul:20240712T140000
DTEND;TZID=Asia/Seoul:20240712T160000
DTSTAMP:20260424T070441
CREATED:20240624T002744Z
LAST-MODIFIED:20240709T021017Z
UID:9734-1720792800-1720800000@www.ibs.re.kr
SUMMARY:Seokjoo Chae\, Holimap: an accurate and efficient method for solving stochastic gene network dynamics
DESCRIPTION:In this talk\, we discuss the paper “Holimap: an accurate and efficient method for solving stochastic gene network dynamics” by Chen Jia and Ramon Grima\, bioRxiv\, 2024. \nAbstract  \nGene-gene interactions are crucial to the control of sub-cellular processes but our understanding of their stochastic dynamics is hindered by the lack of simulation methods that can accurately and efficiently predict how the distributions of protein numbers for each gene vary across parameter space. To overcome these difficulties\, here we present Holimap (high-order linear-mapping approximation)\, an approach that approximates the protein number distributions of a complex gene network by the distributions of a much simpler reaction system. We demonstrate Holimap’s computational advantages over conventional methods by applying it to predict the stochastic time-dependent protein dynamics of several gene regulatory networks\, ranging from simple autoregulatory loops to complex randomly connected networks. Holimap is ideally suited to study how the intricate network of gene-gene interactions results in precise coordination and control of gene expression.
URL:https://www.ibs.re.kr/bimag/event/seokjoo-chae-feedback-between-stochastic-gene-networks-and-population-dynamics-enables-cellular-decision-making/
LOCATION:Daejeon
CATEGORIES:Journal Club
ORGANIZER;CN="Jae Kyoung Kim":MAILTO:jaekkim@kaist.ac.kr
END:VEVENT
BEGIN:VEVENT
DTSTART;TZID=Asia/Seoul:20240719T140000
DTEND;TZID=Asia/Seoul:20240719T160000
DTSTAMP:20260424T070441
CREATED:20240624T003304Z
LAST-MODIFIED:20240715T001749Z
UID:9738-1721397600-1721404800@www.ibs.re.kr
SUMMARY:Dongju Lim\, Stochastic representations of ion channel kinetics and exact stochastic simulation of neuronal dynamics.
DESCRIPTION:In this talk\, we discuss the paper “Stochastic representations of ion channel kinetics and exact stochastic simulation of neuronal dynamics” by D. F. Anderson\, B. Ermentrout and P. J. Thomas\, Journal of Computational Neuroscience\, 2015. \nAbstract \nIn this paper we provide two representations for stochastic ion channel kinetics\, and compare the perfor- mance of exact simulation with a commonly used numer- ical approximation strategy. The first representation we present is a random time change representation\, popular- ized by Thomas Kurtz\, with the second being analogous to a “Gillespie” representation. Exact stochastic algorithms are provided for the different representations\, which are prefer- able to either (a) fixed time step or (b) piecewise constant propensity algorithms\, which still appear in the literature. As examples\, we provide versions of the exact algorithms for the Morris-Lecar conductance based model\, and detail the error induced\, both in a weak and a strong sense\, by the use of approximate algorithms on this model. We include ready-to-use implementations of the random time change algorithm in both XPP and Matlab. Finally\, through the consideration of parametric sensitivity analysis\, we show how the representations presented here are useful in the development of further computational methods. The gen- eral representations and simulation strategies provided here are known in other parts of the sciences\, but less so in the present setting.
URL:https://www.ibs.re.kr/bimag/event/dongju-lim-feedback-between-stochastic-gene-networks-and-population-dynamics-enables-cellular-decision-making/
LOCATION:Daejeon
CATEGORIES:Journal Club
ORGANIZER;CN="Jae Kyoung Kim":MAILTO:jaekkim@kaist.ac.kr
END:VEVENT
BEGIN:VEVENT
DTSTART;TZID=Asia/Seoul:20240726T140000
DTEND;TZID=Asia/Seoul:20240726T160000
DTSTAMP:20260424T070441
CREATED:20240624T003604Z
LAST-MODIFIED:20240709T021120Z
UID:9740-1722002400-1722009600@www.ibs.re.kr
SUMMARY:Eui Min Jeong\, Temperature compensation through kinetic regulation in biochemical oscillators.
DESCRIPTION:In this talk\, we discuss the paper “Temperature compensation through kinetic regulation in biochemical oscillators” by HaochenFu\, Chenyi Fei\, Qi Ouyang\, and Yuhai Tu\, to appear in PNAS.  \nAbstract  \nAlthough individual kinetic rates in biochemical reactions are sensitive to temperature\, most circadian clocks exhibit a relatively constant period across a wide range of temperatures\, a phenomenon called temperature compensation (TC). However\, it remains unclear how different biochemical oscillators achieve TC. In this study\, using representative biochemical oscillator models with different underlying reaction networks\, we demonstrate a general kinetic regulation mechanism for TC regardless of the network structure. We find that by driving the system into a regime far from onset where the period increases strongly with at least one of the kinetic rates in the system to balance its inverse dependence on other rates\, robust TC can be achieved for a wide range of parameters in different networks. 
URL:https://www.ibs.re.kr/bimag/event/eui-min-jeong-temperature-compensation-through-kinetic-regulation-in-biochemical-oscillators/
LOCATION:Daejeon
CATEGORIES:Journal Club
ORGANIZER;CN="Jae Kyoung Kim":MAILTO:jaekkim@kaist.ac.kr
END:VEVENT
END:VCALENDAR