BEGIN:VCALENDAR
VERSION:2.0
PRODID:-//Biomedical Mathematics Group - ECPv6.15.20//NONSGML v1.0//EN
CALSCALE:GREGORIAN
METHOD:PUBLISH
X-WR-CALNAME:Biomedical Mathematics Group
X-ORIGINAL-URL:https://www.ibs.re.kr/bimag
X-WR-CALDESC:Events for Biomedical Mathematics Group
REFRESH-INTERVAL;VALUE=DURATION:PT1H
X-Robots-Tag:noindex
X-PUBLISHED-TTL:PT1H
BEGIN:VTIMEZONE
TZID:Asia/Seoul
BEGIN:STANDARD
TZOFFSETFROM:+0900
TZOFFSETTO:+0900
TZNAME:KST
DTSTART:20230101T000000
END:STANDARD
END:VTIMEZONE
BEGIN:VEVENT
DTSTART;TZID=Asia/Seoul:20240105T140000
DTEND;TZID=Asia/Seoul:20240105T160000
DTSTAMP:20260425T022852
CREATED:20231130T084919Z
LAST-MODIFIED:20231215T004743Z
UID:8754-1704463200-1704470400@www.ibs.re.kr
SUMMARY:Hyeontae Jo\, Integration of Neural Network-Based Symbolic Regression in Deep Learning for Scientific Discovery
DESCRIPTION:We will discuss about “Integration of Neural Network-Based Symbolic Regression in Deep Learning for Scientific Discovery” IEEE Transactions on neural networks and learning systems 32.9 (2020): 4166-4177. \nAbstract \n\nSymbolic regression is a powerful technique to discover analytic equations that describe data\, which can lead to explainable models and the ability to predict unseen data. In contrast\, neural networks have achieved amazing levels of accuracy on image recognition and natural language processing tasks\, but they are often seen as black-box models that are difficult to interpret and typically extrapolate poorly. In this article\, we use a neural network-based architecture for symbolic regression called the equation learner (EQL) network and integrate it with other deep learning architectures such that the whole system can be trained end-to-end through backpropagation. To demonstrate the power of such systems\, we study their performance on several substantially different tasks. First\, we show that the neural network can perform symbolic regression and learn the form of several functions. Next\, we present an MNIST arithmetic task where a convolutional network extracts the digits. Finally\, we demonstrate the prediction of dynamical systems where an unknown parameter is extracted through an encoder. We find that the EQL-based architecture can extrapolate quite well outside of the training data set compared with a standard neural network-based architecture\, paving the way for deep learning to be applied in scientific exploration and discovery
URL:https://www.ibs.re.kr/bimag/event/2024-01-05-jc/
LOCATION:B378 Seminar room\, IBS\, 55 Expo-ro Yuseong-gu\, Daejeon\, 34126\, Korea\, Republic of
CATEGORIES:Journal Club
ORGANIZER;CN="Jae Kyoung Kim":MAILTO:jaekkim@kaist.ac.kr
END:VEVENT
BEGIN:VEVENT
DTSTART;TZID=Asia/Seoul:20240112T140000
DTEND;TZID=Asia/Seoul:20240112T160000
DTSTAMP:20260425T022852
CREATED:20231229T025818Z
LAST-MODIFIED:20240106T124522Z
UID:8988-1705068000-1705075200@www.ibs.re.kr
SUMMARY:Seokjoo Chae\, AI Feynman: A physics-inspired method for symbolic regression
DESCRIPTION:We will discuss about “AI Feynman: A physics-inspired method for symbolic regression”\,Science Advances 6.16 (2020): eaay2631. \nAbstract \nA core challenge for both physics and artificial intelligence (AI) is symbolic regression: finding a symbolic expression that matches data from an unknown function. Although this problem is likely to be NP-hard in principle\, functions of practical interest often exhibit symmetries\, separability\, compositionality\, and other simplifying properties. In this spirit\, we develop a recursive multidimensional symbolic regression algorithm that combines neural network fitting with a suite of physics-inspired techniques. We apply it to 100 equations from the Feynman Lectures on Physics\, and it discovers all of them\, while previous publicly available software cracks only 71; for a more difficult physics-based test set\, we improve the state-of-the-art success rate from 15 to 90%.
URL:https://www.ibs.re.kr/bimag/event/2024-01-12-jc/
LOCATION:B232 Seminar Room\, IBS\, 55 Expo-ro Yuseong-gu\, Daejeon\, Daejeon\, 34126\, Korea\, Republic of
CATEGORIES:Journal Club
ORGANIZER;CN="Jae Kyoung Kim":MAILTO:jaekkim@kaist.ac.kr
END:VEVENT
BEGIN:VEVENT
DTSTART;TZID=Asia/Seoul:20240119T140000
DTEND;TZID=Asia/Seoul:20240119T160000
DTSTAMP:20260425T022852
CREATED:20231229T025616Z
LAST-MODIFIED:20240105T093238Z
UID:8985-1705672800-1705680000@www.ibs.re.kr
SUMMARY:Dongju Lim\, The timing of cellular events: a stochastic vs deterministic perspective
DESCRIPTION:We will discuss about “The timing of cellular events: a stochastic vs deterministic perspective”\, bioRxiv (2023): 2023-07. \n  \nAbstract \nChanges in cell state are driven by key molecular events whose timing can often be measured experimentally. Of particular interest is the time taken for the levels of RNA or protein molecules to reach a critical threshold defining the triggering of a cellular event. While this mean trigger time can be estimated by numerical integration of deterministic models\, these ignore intrinsic noise and hence their predictions may be inaccurate. Here we study the differences between deterministic and stochastic model predictions for the mean trigger times using simple models of gene expression\, post-transcriptional feedback control\, and enzyme-mediated catalysis. By comparison of the two predictions\, we show that when promoter switching is present there exists a transition from a parameter regime where deterministic models predict a longer trigger time than stochastic models to a regime where the opposite occurs. Furthermore\, the ratio of the trigger times of the two models can be large\, particularly for auto-regulatory genetic feedback loops. Our theory provides intuitive insight into the origin of these effects and shows that deterministic predictions for cellular event timing can be highly inaccurate when molecule numbers are within the range known for many cells. \n 
URL:https://www.ibs.re.kr/bimag/event/2024-01-19-jc/
LOCATION:B232 Seminar Room\, IBS\, 55 Expo-ro Yuseong-gu\, Daejeon\, Daejeon\, 34126\, Korea\, Republic of
CATEGORIES:Journal Club
ORGANIZER;CN="Jae Kyoung Kim":MAILTO:jaekkim@kaist.ac.kr
END:VEVENT
BEGIN:VEVENT
DTSTART;TZID=Asia/Seoul:20240126T140000
DTEND;TZID=Asia/Seoul:20240126T160000
DTSTAMP:20260425T022852
CREATED:20231229T030126Z
LAST-MODIFIED:20240105T093349Z
UID:8991-1706277600-1706284800@www.ibs.re.kr
SUMMARY:Eui Min Jeong\, "Linear mapping approximation of gene regulatory networks with stochastic dynamics"
DESCRIPTION:We will discuss about “Linear mapping approximation of gene regulatory networks with stochastic dynamics”\, Nature communications 9.1 (2018): 3305. \n  \nAbstract \nThe presence of protein–DNA binding reactions often leads to analytically intractable models of stochastic gene expression. Here we present the linear-mapping approximation that maps systems with protein–promoter interactions onto approximately equivalent systems with no binding reactions. This is achieved by the marriage of conditional mean-field approximation and the Magnus expansion\, leading to analytic or semi-analytic expressions for the approximate time-dependent and steady-state protein number distributions. Stochastic simulations verify the method’s accuracy in capturing the changes in the protein number distributions with time for a wide variety of networks displaying auto- and mutual-regulation of gene expression and independently of the ratios of the timescales governing the dynamics. The method is also used to study the first-passage time distribution of promoter switching\, the sensitivity of the size of protein number fluctuations to parameter perturbation and the stochastic bifurcation diagram characterizing the onset of multimodality in protein number distributions.
URL:https://www.ibs.re.kr/bimag/event/2024-01-26-jc/
LOCATION:B232 Seminar Room\, IBS\, 55 Expo-ro Yuseong-gu\, Daejeon\, Daejeon\, 34126\, Korea\, Republic of
CATEGORIES:Journal Club
ORGANIZER;CN="Jae Kyoung Kim":MAILTO:jaekkim@kaist.ac.kr
END:VEVENT
END:VCALENDAR