BEGIN:VCALENDAR
VERSION:2.0
PRODID:-//Biomedical Mathematics Group - ECPv6.15.20//NONSGML v1.0//EN
CALSCALE:GREGORIAN
METHOD:PUBLISH
X-WR-CALNAME:Biomedical Mathematics Group
X-ORIGINAL-URL:https://www.ibs.re.kr/bimag
X-WR-CALDESC:Events for Biomedical Mathematics Group
REFRESH-INTERVAL;VALUE=DURATION:PT1H
X-Robots-Tag:noindex
X-PUBLISHED-TTL:PT1H
BEGIN:VTIMEZONE
TZID:Asia/Seoul
BEGIN:STANDARD
TZOFFSETFROM:+0900
TZOFFSETTO:+0900
TZNAME:KST
DTSTART:20220101T000000
END:STANDARD
END:VTIMEZONE
BEGIN:VEVENT
DTSTART;TZID=Asia/Seoul:20230918T160000
DTEND;TZID=Asia/Seoul:20230918T170000
DTSTAMP:20260426T062226
CREATED:20230918T080118Z
LAST-MODIFIED:20230918T080118Z
UID:8524-1695052800-1695056400@www.ibs.re.kr
SUMMARY:Balazs Erdos\, Quantifying the dynamics of postmeal metabolism: Inference from challenge test data
DESCRIPTION:
URL:https://www.ibs.re.kr/bimag/event/balazs-erdos-quantifying-the-dynamics-of-postmeal-metabolism-inference-from-challenge-test-data/
LOCATION:B378 Seminar room\, IBS\, 55 Expo-ro Yuseong-gu\, Daejeon\, 34126\, Korea\, Republic of
CATEGORIES:Biomedical Mathematics Seminar
ORGANIZER;CN="Jae Kyoung Kim":MAILTO:jaekkim@kaist.ac.kr
END:VEVENT
END:VCALENDAR