BEGIN:VCALENDAR
VERSION:2.0
PRODID:-//Biomedical Mathematics Group - ECPv6.15.20//NONSGML v1.0//EN
CALSCALE:GREGORIAN
METHOD:PUBLISH
X-WR-CALNAME:Biomedical Mathematics Group
X-ORIGINAL-URL:https://www.ibs.re.kr/bimag
X-WR-CALDESC:Events for Biomedical Mathematics Group
REFRESH-INTERVAL;VALUE=DURATION:PT1H
X-Robots-Tag:noindex
X-PUBLISHED-TTL:PT1H
BEGIN:VTIMEZONE
TZID:Asia/Seoul
BEGIN:STANDARD
TZOFFSETFROM:+0900
TZOFFSETTO:+0900
TZNAME:KST
DTSTART:20220101T000000
END:STANDARD
END:VTIMEZONE
BEGIN:VEVENT
DTSTART;TZID=Asia/Seoul:20230914T160000
DTEND;TZID=Asia/Seoul:20230914T173000
DTSTAMP:20260426T062226
CREATED:20230913T040446Z
LAST-MODIFIED:20230913T040446Z
UID:8516-1694707200-1694712600@www.ibs.re.kr
SUMMARY:Jonathan Rubin\, Qualitative inverse problems: mapping from limited data to properties of dynamics and parameter values for ODE models
DESCRIPTION:
URL:https://www.ibs.re.kr/bimag/event/jonathan-rubin-qualitative-inverse-problems-mapping-from-limited-data-to-properties-of-dynamics-and-parameter-values-for-ode-models/
LOCATION:KAIST E6-1 1501 Auditorium\, 291 Daehak-ro\, Yuseong-gu\, Daejeon\, 34141\, Korea\, Republic of
CATEGORIES:Seminar
ATTACH;FMTTYPE=image/jpeg:https://www.ibs.re.kr/bimag/cms/wp-content/uploads/2023/09/2023FallMathColloquium-scaled.jpg
ORGANIZER;CN="Jae Kyoung Kim":MAILTO:jaekkim@kaist.ac.kr
END:VEVENT
END:VCALENDAR