BEGIN:VCALENDAR
VERSION:2.0
PRODID:-//Biomedical Mathematics Group - ECPv6.15.20//NONSGML v1.0//EN
CALSCALE:GREGORIAN
METHOD:PUBLISH
X-WR-CALNAME:Biomedical Mathematics Group
X-ORIGINAL-URL:https://www.ibs.re.kr/bimag
X-WR-CALDESC:Events for Biomedical Mathematics Group
REFRESH-INTERVAL;VALUE=DURATION:PT1H
X-Robots-Tag:noindex
X-PUBLISHED-TTL:PT1H
BEGIN:VTIMEZONE
TZID:Asia/Seoul
BEGIN:STANDARD
TZOFFSETFROM:+0900
TZOFFSETTO:+0900
TZNAME:KST
DTSTART:20220101T000000
END:STANDARD
END:VTIMEZONE
BEGIN:VEVENT
DTSTART;TZID=Asia/Seoul:20230707T140000
DTEND;TZID=Asia/Seoul:20230707T160000
DTSTAMP:20260426T031238
CREATED:20230529T032440Z
LAST-MODIFIED:20230707T034944Z
UID:7807-1688738400-1688745600@www.ibs.re.kr
SUMMARY:Hyun Kim\, scPrisma infers\, filters and enhances topological signals in single-cell data using spectral template matching
DESCRIPTION:We will discuss about “scPrisma infers\, filters and enhances topological signals in single-cell data using spectral template matching”\, Karin\, Jonathan\, Yonathan Bornfeld\, and Mor Nitzan.\, Nature Biotechnology (2023): 1-10. \nAbstract \n\n\n\nSingle-cell RNA sequencing has been instrumental in uncovering cellular spatiotemporal context. This task is challenging as cells simultaneously encode multiple\, potentially cross-interfering\, biological signals. Here we propose scPrisma\, a spectral computational method that uses topological priors to decouple\, enhance and filter different classes of biological processes in single-cell data\, such as periodic and linear signals. We apply scPrisma to the analysis of the cell cycle in HeLa cells\, circadian rhythm and spatial zonation in liver lobules\, diurnal cycle in Chlamydomonas and circadian rhythm in the suprachiasmatic nucleus in the brain. scPrisma can be used to distinguish mixed cellular populations by specific characteristics such as cell type and uncover regulatory networks and cell–cell interactions specific to predefined biological signals\, such as the circadian rhythm. We show scPrisma’s flexibility in incorporating prior knowledge\, inference of topologically informative genes and generalization to additional diverse templates and systems. scPrisma can be used as a stand-alone workflow for signal analysis and as a prior step for downstream single-cell analysis.
URL:https://www.ibs.re.kr/bimag/event/2023-07-07-jc/
LOCATION:B232 Seminar Room\, IBS\, 55 Expo-ro Yuseong-gu\, Daejeon\, Daejeon\, 34126\, Korea\, Republic of
CATEGORIES:Journal Club
ORGANIZER;CN="Jae Kyoung Kim":MAILTO:jaekkim@kaist.ac.kr
END:VEVENT
END:VCALENDAR