BEGIN:VCALENDAR
VERSION:2.0
PRODID:-//Biomedical Mathematics Group - ECPv6.15.20//NONSGML v1.0//EN
CALSCALE:GREGORIAN
METHOD:PUBLISH
X-ORIGINAL-URL:https://www.ibs.re.kr/bimag
X-WR-CALDESC:Events for Biomedical Mathematics Group
REFRESH-INTERVAL;VALUE=DURATION:PT1H
X-Robots-Tag:noindex
X-PUBLISHED-TTL:PT1H
BEGIN:VTIMEZONE
TZID:Asia/Seoul
BEGIN:STANDARD
TZOFFSETFROM:+0900
TZOFFSETTO:+0900
TZNAME:KST
DTSTART:20220101T000000
END:STANDARD
END:VTIMEZONE
BEGIN:VEVENT
DTSTART;TZID=Asia/Seoul:20230619T120000
DTEND;TZID=Asia/Seoul:20230619T130000
DTSTAMP:20260426T013942
CREATED:20230529T074802Z
LAST-MODIFIED:20230619T031311Z
UID:7837-1687176000-1687179600@www.ibs.re.kr
SUMMARY:Abbas Abbasli and Hyeongjun Jang
DESCRIPTION:Abbas Abbasli: Accurate prediction of in-vivo drug interaction mediated by cytochrome P450 inhibition \nHyeongjun Jang: Comparison of the inhibition constant approximation methods
URL:https://www.ibs.re.kr/bimag/event/2023-06-19-lls/
LOCATION:Tea Room\, IBS\, Daejeon\, Daejeon\, 34141\, Korea\, Republic of
CATEGORIES:Lunch Lab Meeting Seminar
ORGANIZER;CN="Jae Kyoung Kim":MAILTO:jaekkim@kaist.ac.kr
END:VEVENT
END:VCALENDAR