BEGIN:VCALENDAR
VERSION:2.0
PRODID:-//Biomedical Mathematics Group - ECPv6.15.20//NONSGML v1.0//EN
CALSCALE:GREGORIAN
METHOD:PUBLISH
X-ORIGINAL-URL:https://www.ibs.re.kr/bimag
X-WR-CALDESC:Events for Biomedical Mathematics Group
REFRESH-INTERVAL;VALUE=DURATION:PT1H
X-Robots-Tag:noindex
X-PUBLISHED-TTL:PT1H
BEGIN:VTIMEZONE
TZID:Asia/Seoul
BEGIN:STANDARD
TZOFFSETFROM:+0900
TZOFFSETTO:+0900
TZNAME:KST
DTSTART:20220101T000000
END:STANDARD
END:VTIMEZONE
BEGIN:VEVENT
DTSTART;TZID=Asia/Seoul:20230531T120000
DTEND;TZID=Asia/Seoul:20230531T130000
DTSTAMP:20260426T013949
CREATED:20230529T035221Z
LAST-MODIFIED:20230529T102040Z
UID:7809-1685534400-1685538000@www.ibs.re.kr
SUMMARY:Dongju Lim\, Eui Min Jeong\, Hyeontae Jo
DESCRIPTION:Dongju Lim: Mood Prediction for Bipolar Disorder Patient with Sleep Pattern Information \n  \nEui Min Jeong:Noise attenuation through the multiple repression mechanism in transcription \n  \nHyeontae Jo: Parameter estimation with discontinuously switching system
URL:https://www.ibs.re.kr/bimag/event/2023-05-31-lls/
LOCATION:Tea Room\, IBS\, Daejeon\, Daejeon\, 34141\, Korea\, Republic of
CATEGORIES:Lunch Lab Meeting Seminar
ORGANIZER;CN="Jae Kyoung Kim":MAILTO:jaekkim@kaist.ac.kr
END:VEVENT
END:VCALENDAR