BEGIN:VCALENDAR
VERSION:2.0
PRODID:-//Biomedical Mathematics Group - ECPv6.15.20//NONSGML v1.0//EN
CALSCALE:GREGORIAN
METHOD:PUBLISH
X-ORIGINAL-URL:https://www.ibs.re.kr/bimag
X-WR-CALDESC:Events for Biomedical Mathematics Group
REFRESH-INTERVAL;VALUE=DURATION:PT1H
X-Robots-Tag:noindex
X-PUBLISHED-TTL:PT1H
BEGIN:VTIMEZONE
TZID:Asia/Seoul
BEGIN:STANDARD
TZOFFSETFROM:+0900
TZOFFSETTO:+0900
TZNAME:KST
DTSTART:20220101T000000
END:STANDARD
END:VTIMEZONE
BEGIN:VEVENT
DTSTART;TZID=Asia/Seoul:20230525T110000
DTEND;TZID=Asia/Seoul:20230525T120000
DTSTAMP:20260426T013948
CREATED:20230522T134427Z
LAST-MODIFIED:20230522T134449Z
UID:7767-1685012400-1685016000@www.ibs.re.kr
SUMMARY:Nonparametric predictive model for sparse and irregular longitudinal data
DESCRIPTION:We propose a kernel-based estimator to predict the mean response trajectory for sparse and irregularly measured longitudinal data. The kernel estimator is constructed by imposing weights based on the subject-wise similarity on L2 metric space between predictor trajectories\, where we assume that an analogous fashion in predictor trajectories over time would result in a similar trend in the response trajectory among subjects. In order to deal with the curse of dimensionality caused by the multiple predictors\, we propose an appealing multiplicative model with multivariate Gaussian kernels. This model is capable of achieving dimension reduction as well as selecting functional covariates with predictive significance. The asymptotic properties of the proposed nonparametric estimator are investigated under mild regularity conditions. We illustrate the robustness and flexibility of our proposed method via the simulation study and an application to Framingham Heart Study
URL:https://www.ibs.re.kr/bimag/event/2023-05-25-seminar/
LOCATION:B378 Seminar room\, IBS\, 55 Expo-ro Yuseong-gu\, Daejeon\, 34126\, Korea\, Republic of
CATEGORIES:Biomedical Mathematics Seminar
ORGANIZER;CN="Jae Kyoung Kim":MAILTO:jaekkim@kaist.ac.kr
END:VEVENT
END:VCALENDAR