BEGIN:VCALENDAR
VERSION:2.0
PRODID:-//Biomedical Mathematics Group - ECPv6.15.20//NONSGML v1.0//EN
CALSCALE:GREGORIAN
METHOD:PUBLISH
X-WR-CALNAME:Biomedical Mathematics Group
X-ORIGINAL-URL:https://www.ibs.re.kr/bimag
X-WR-CALDESC:Events for Biomedical Mathematics Group
REFRESH-INTERVAL;VALUE=DURATION:PT1H
X-Robots-Tag:noindex
X-PUBLISHED-TTL:PT1H
BEGIN:VTIMEZONE
TZID:Asia/Seoul
BEGIN:STANDARD
TZOFFSETFROM:+0900
TZOFFSETTO:+0900
TZNAME:KST
DTSTART:20220101T000000
END:STANDARD
END:VTIMEZONE
BEGIN:VEVENT
DTSTART;TZID=Asia/Seoul:20230522T120000
DTEND;TZID=Asia/Seoul:20230522T130000
DTSTAMP:20260426T000408
CREATED:20230509T062709Z
LAST-MODIFIED:20230509T062709Z
UID:7730-1684756800-1684760400@www.ibs.re.kr
SUMMARY:Pan Li\, Modeling the circadian control of cardiac function
DESCRIPTION:Abstract: TBA
URL:https://www.ibs.re.kr/bimag/event/pan-li-modeling-the-circadian-control-of-cardiac-function/
LOCATION:IBS\, 55 Expo-ro Yuseong-gu\, Daejeon\, Daejeon\, 34126\, Korea\, Republic of
CATEGORIES:Biomedical Mathematics Seminar
ORGANIZER;CN="Jae Kyoung Kim":MAILTO:jaekkim@kaist.ac.kr
END:VEVENT
END:VCALENDAR