BEGIN:VCALENDAR
VERSION:2.0
PRODID:-//Biomedical Mathematics Group - ECPv6.15.20//NONSGML v1.0//EN
CALSCALE:GREGORIAN
METHOD:PUBLISH
X-ORIGINAL-URL:https://www.ibs.re.kr/bimag
X-WR-CALDESC:Events for Biomedical Mathematics Group
REFRESH-INTERVAL;VALUE=DURATION:PT1H
X-Robots-Tag:noindex
X-PUBLISHED-TTL:PT1H
BEGIN:VTIMEZONE
TZID:Asia/Seoul
BEGIN:STANDARD
TZOFFSETFROM:+0900
TZOFFSETTO:+0900
TZNAME:KST
DTSTART:20220101T000000
END:STANDARD
END:VTIMEZONE
BEGIN:VEVENT
DTSTART;TZID=Asia/Seoul:20230510T160000
DTEND;TZID=Asia/Seoul:20230510T170000
DTSTAMP:20260426T013950
CREATED:20230213T110735Z
LAST-MODIFIED:20230308T101512Z
UID:7339-1683734400-1683738000@www.ibs.re.kr
SUMMARY:Mogens Jensen\, Droplet formation\, DNA repair and chaos in CellsBD
DESCRIPTION:Abstract: TBD
URL:https://www.ibs.re.kr/bimag/event/tbd/
LOCATION:ZOOM ID: 997 8258 4700 (Biomedical Mathematics Online Colloquium)\, (pw: 1234)
CATEGORIES:Biomedical Mathematics Online Colloquium
ATTACH;FMTTYPE=image/jpeg:https://www.ibs.re.kr/bimag/cms/wp-content/uploads/2023/02/Mogens_Hogh_Jensen.jpg
ORGANIZER;CN="Jae Kyoung Kim":MAILTO:jaekkim@kaist.ac.kr
END:VEVENT
END:VCALENDAR