BEGIN:VCALENDAR
VERSION:2.0
PRODID:-//Biomedical Mathematics Group - ECPv6.15.20//NONSGML v1.0//EN
CALSCALE:GREGORIAN
METHOD:PUBLISH
X-WR-CALNAME:Biomedical Mathematics Group
X-ORIGINAL-URL:https://www.ibs.re.kr/bimag
X-WR-CALDESC:Events for Biomedical Mathematics Group
REFRESH-INTERVAL;VALUE=DURATION:PT1H
X-Robots-Tag:noindex
X-PUBLISHED-TTL:PT1H
BEGIN:VTIMEZONE
TZID:Asia/Seoul
BEGIN:STANDARD
TZOFFSETFROM:+0900
TZOFFSETTO:+0900
TZNAME:KST
DTSTART:20220101T000000
END:STANDARD
END:VTIMEZONE
BEGIN:VEVENT
DTSTART;TZID=Asia/Seoul:20230504T161500
DTEND;TZID=Asia/Seoul:20230504T171500
DTSTAMP:20260425T203059
CREATED:20230409T053139Z
LAST-MODIFIED:20230414T024516Z
UID:7585-1683216900-1683220500@www.ibs.re.kr
SUMMARY:Uncovering the mechanisms of pattern formation and emergent collective behaviors in myxobacteria
DESCRIPTION:Collective cell movement is critical to the emergent properties of many multicellular systems including microbial self-organization in biofilms\, wound healing\, and cancer metastasis. However\, even the best-studied systems lack a complete picture of how diverse physical and chemical cues act upon individual cells to ensure coordinated multicellular behavior. Myxococcus xanthus is a model bacteria famous for its coordinated multicellular behavior resulting in dynamic patterns formation. For example\, when starving millions of cells coordinate their movement to organize into fruiting bodies – aggregates containing tens of thousands of bacteria. Relating these complex self-organization patterns to the behavior of individual cells is a complex-reverse engineering problem that cannot be solved solely by experimental research. In collaboration with experimental colleagues\, we use a combination of quantitative microscopy\, image processing\, agent-based modeling\, and kinetic theory PDEs to uncover the mechanisms of emergent collective behaviors.
URL:https://www.ibs.re.kr/bimag/event/understanding-trade-offs-in-biological-information-processing/
LOCATION:KAIST E6-1 1501 Auditorium\, 291 Daehak-ro\, Yuseong-gu\, Daejeon\, 34141\, Korea\, Republic of
CATEGORIES:Biomedical Mathematics Seminar
ORGANIZER;CN="Jae Kyoung Kim":MAILTO:jaekkim@kaist.ac.kr
END:VEVENT
END:VCALENDAR