BEGIN:VCALENDAR
VERSION:2.0
PRODID:-//Biomedical Mathematics Group - ECPv6.15.20//NONSGML v1.0//EN
CALSCALE:GREGORIAN
METHOD:PUBLISH
X-ORIGINAL-URL:https://www.ibs.re.kr/bimag
X-WR-CALDESC:Events for Biomedical Mathematics Group
REFRESH-INTERVAL;VALUE=DURATION:PT1H
X-Robots-Tag:noindex
X-PUBLISHED-TTL:PT1H
BEGIN:VTIMEZONE
TZID:Asia/Seoul
BEGIN:STANDARD
TZOFFSETFROM:+0900
TZOFFSETTO:+0900
TZNAME:KST
DTSTART:20220101T000000
END:STANDARD
END:VTIMEZONE
BEGIN:VEVENT
DTSTART;TZID=Asia/Seoul:20230428T110000
DTEND;TZID=Asia/Seoul:20230428T120000
DTSTAMP:20260425T221446
CREATED:20230213T110626Z
LAST-MODIFIED:20230308T101702Z
UID:7336-1682679600-1682683200@www.ibs.re.kr
SUMMARY:Hans P.A. Van Dongen\, Modeling the temporal dynamics of neurobehavioral performance impairment due to sleep loss and circadian misalignment
DESCRIPTION:Abstract: The well-known two-process model of sleep regulation makes accurate predictions of sleep timing and duration\, as well as neurobehavioral performance\, for a variety of acute sleep deprivation and nap sleep scenarios\, but it fails to predict the effects of chronic sleep restriction on neurobehavioral performance. The two-process model belongs to a broader class of coupled\, non-homogeneous\, first-order\, ordinary differential equations (ODEs)\, which can capture the effects of chronic sleep restriction. These equations exhibit a bifurcation\, which appears to be an essential feature of performance impairment due to sleep loss. The equations implicate a biological system analogous to two connected compartments containing interacting compounds with time-varying concentrations\, such as the adenosinergic neuromodulator/receptor system\, as a key mechanism for the regulation of neurobehavioral functioning under conditions of sleep loss. The equations account for dynamic interaction with circadian rhythmicity\, and also provide a new approach to dynamically tracking the magnitude of sleep inertia upon awakening from restricted sleep. This presentation will describe the development of the ODE system and its experimental calibration and validation\, and will discuss some novel predictions.
URL:https://www.ibs.re.kr/bimag/event/modeling-the-temporal-dynamics-of-neurobehavioral-performance-impairment-due-to-sleep-loss-and-circadian-misalignment/
LOCATION:ZOOM ID: 997 8258 4700 (Biomedical Mathematics Online Colloquium)\, (pw: 1234)
CATEGORIES:Biomedical Mathematics Online Colloquium
ATTACH;FMTTYPE=image/png:https://www.ibs.re.kr/bimag/cms/wp-content/uploads/2023/02/HANS-VAN-DONGEN-396x293-1.png
ORGANIZER;CN="Jae Kyoung Kim":MAILTO:jaekkim@kaist.ac.kr
END:VEVENT
END:VCALENDAR