BEGIN:VCALENDAR
VERSION:2.0
PRODID:-//Biomedical Mathematics Group - ECPv6.15.20//NONSGML v1.0//EN
CALSCALE:GREGORIAN
METHOD:PUBLISH
X-WR-CALNAME:Biomedical Mathematics Group
X-ORIGINAL-URL:https://www.ibs.re.kr/bimag
X-WR-CALDESC:Events for Biomedical Mathematics Group
REFRESH-INTERVAL;VALUE=DURATION:PT1H
X-Robots-Tag:noindex
X-PUBLISHED-TTL:PT1H
BEGIN:VTIMEZONE
TZID:Asia/Seoul
BEGIN:STANDARD
TZOFFSETFROM:+0900
TZOFFSETTO:+0900
TZNAME:KST
DTSTART:20210101T000000
END:STANDARD
END:VTIMEZONE
BEGIN:VEVENT
DTSTART;TZID=Asia/Seoul:20221130T160000
DTEND;TZID=Asia/Seoul:20221130T170000
DTSTAMP:20260425T094928
CREATED:20220825T013203Z
LAST-MODIFIED:20221124T211611Z
UID:6498-1669824000-1669827600@www.ibs.re.kr
SUMMARY:Brain dynamics during shiftwork: from maths and codes to real-world applications
DESCRIPTION:Abstract: \nCircadian clocks control the timing and 24-hour periodicity of virtually all physiological rhythms including sleep\, cognition\, and metabolism. There are optimal times for most behaviours; e.g.\, the best sleep is achieved during low circadian activity (night)\, while meals and physical exercise are best placed during high circadian activity (day) when metabolic rates\, stress hormone levels\, and blood pressure are higher. However\, the demands of our 24/7 society often result in misalignment of these environmental\, behavioural and physiological rhythms with the typical examples being shiftwork\, jetlag\, and circadian disorders. This circadian misalignment results in inadequate sleep\, fatigue\, increased risk of accidents\, and in the long-term\, development of disease including cancer and diabetes. Mathematical modelling of circadian misalignment is used to better understand the circadian and sleep regulation and make predictions to reduce risk of fatigue-related accidents. In this talk I will present an overview of our studies of shiftwork modelling and our journey from fundamental modelling research of sleep and circadian rhythms to development of software tools and real-world applications.
URL:https://www.ibs.re.kr/bimag/event/2022-11-30-colloquium/
LOCATION:ZOOM ID: 997 8258 4700 (Biomedical Mathematics Online Colloquium)\, (pw: 1234)
CATEGORIES:Biomedical Mathematics Online Colloquium
ATTACH;FMTTYPE=image/jpeg:https://www.ibs.re.kr/bimag/cms/wp-content/uploads/2022/08/SvetlanaPostnova-250x250-1.jpg
ORGANIZER;CN="Jae Kyoung Kim":MAILTO:jaekkim@kaist.ac.kr
END:VEVENT
END:VCALENDAR