BEGIN:VCALENDAR
VERSION:2.0
PRODID:-//Biomedical Mathematics Group - ECPv6.15.20//NONSGML v1.0//EN
CALSCALE:GREGORIAN
METHOD:PUBLISH
X-ORIGINAL-URL:https://www.ibs.re.kr/bimag
X-WR-CALDESC:Events for Biomedical Mathematics Group
REFRESH-INTERVAL;VALUE=DURATION:PT1H
X-Robots-Tag:noindex
X-PUBLISHED-TTL:PT1H
BEGIN:VTIMEZONE
TZID:Asia/Seoul
BEGIN:STANDARD
TZOFFSETFROM:+0900
TZOFFSETTO:+0900
TZNAME:KST
DTSTART:20210101T000000
END:STANDARD
END:VTIMEZONE
BEGIN:VEVENT
DTSTART;TZID=Asia/Seoul:20221021T103000
DTEND;TZID=Asia/Seoul:20221021T110000
DTSTAMP:20260425T082839
CREATED:20220916T014503Z
LAST-MODIFIED:20220916T014503Z
UID:6575-1666348200-1666350000@www.ibs.re.kr
SUMMARY:A Brief Introduction to Stochastic Reaction Networks
DESCRIPTION:Abstract: TBA
URL:https://www.ibs.re.kr/bimag/event/2022-10-21-colloquium-2/
LOCATION:ZOOM ID: 997 8258 4700 (Biomedical Mathematics Online Colloquium)\, (pw: 1234)
CATEGORIES:Biomedical Mathematics Online Colloquium
ATTACH;FMTTYPE=image/jpeg:https://www.ibs.re.kr/bimag/cms/wp-content/uploads/2022/08/DAnderson2018-250x250-1.jpg
ORGANIZER;CN="Jae Kyoung Kim":MAILTO:jaekkim@kaist.ac.kr
END:VEVENT
BEGIN:VEVENT
DTSTART;TZID=Asia/Seoul:20221021T110000
DTEND;TZID=Asia/Seoul:20221021T120000
DTSTAMP:20260425T082839
CREATED:20220825T011824Z
LAST-MODIFIED:20220916T014258Z
UID:6478-1666350000-1666353600@www.ibs.re.kr
SUMMARY:Stationary distributions and positive recurrence of chemical reaction networks
DESCRIPTION:Abstract: \nCellular\, chemical\, and population processes are all often represented via networks that describe the interactions between the different population types (typically called the “species”). If the counts of the species are low\, then these systems are often modeled as continuous-time Markov chains on the d-dimensional integer lattice (with d being the number of species)\, with transition rates determined by stochastic mass-action kinetics. A natural (broad) mathematical question is: how do the qualitative properties of the dynamical system relate to the graph properties of the network? For example\, it is of particular interest to know which graph properties imply that the stochastically modeled reaction network is positive recurrent\, and therefore admits a stationary distribution. After a general introduction to the models of interest\, I will discuss this problem\, giving some of the known results. I will also discuss recent progress on the Chemical Recurrence Conjecture\, which has been open for decades\, which is the following: if each connected component of the network is strongly connected\, then the associated stochastic model is positive recurrent.
URL:https://www.ibs.re.kr/bimag/event/2022-10-21-colloquium/
LOCATION:ZOOM ID: 997 8258 4700 (Biomedical Mathematics Online Colloquium)\, (pw: 1234)
CATEGORIES:Biomedical Mathematics Online Colloquium
ATTACH;FMTTYPE=image/jpeg:https://www.ibs.re.kr/bimag/cms/wp-content/uploads/2022/08/DAnderson2018-250x250-1.jpg
ORGANIZER;CN="Jae Kyoung Kim":MAILTO:jaekkim@kaist.ac.kr
END:VEVENT
BEGIN:VEVENT
DTSTART;TZID=Asia/Seoul:20221021T150000
DTEND;TZID=Asia/Seoul:20221021T170000
DTSTAMP:20260425T082839
CREATED:20220930T035045Z
LAST-MODIFIED:20221019T070546Z
UID:6641-1666364400-1666371600@www.ibs.re.kr
SUMMARY:Rhythmicity is linked to expression cost at the protein level but to expression precision at the mRNA level
DESCRIPTION:We will discuss about “Rhythmicity is linked to expression cost at the protein level but to expression precision at the mRNA level”\, David Laloum\, and Marc Robinson-Rechavi\, PLoS computational biology 18.9 (2022): e1010399. \nAbstract: \nMany genes have nycthemeral rhythms of expression\, i.e. a 24-hours periodic variation\, at either mRNA or protein level or both\, and most rhythmic genes are tissue-specific. Here\, we investigate and discuss the evolutionary origins of rhythms in gene expression. Our results suggest that rhythmicity of protein expression could have been favored by selection to minimize costs. Trends are consistent in bacteria\, plants and animals\, and are also supported by tissue-specific patterns in mouse. Unlike for protein level\, cost cannot explain rhythm at the RNA level. We suggest that instead it allows to periodically reduce expression noise. Noise control had the strongest support in mouse\, with limited evidence in other species. We have also found that genes under stronger purifying selection are rhythmically expressed at the mRNA level\, and we propose that this is because they are noise sensitive genes. Finally\, the adaptive role of rhythmic expression is supported by rhythmic genes being highly expressed yet tissue-specific. This provides a good evolutionary explanation for the observation that nycthemeral rhythms are often tissue-specific.
URL:https://www.ibs.re.kr/bimag/event/2022-10-21-jc/
LOCATION:B378 Seminar room\, IBS\, 55 Expo-ro Yuseong-gu\, Daejeon\, 34126\, Korea\, Republic of
CATEGORIES:Journal Club
ORGANIZER;CN="Jae Kyoung Kim":MAILTO:jaekkim@kaist.ac.kr
END:VEVENT
END:VCALENDAR