BEGIN:VCALENDAR
VERSION:2.0
PRODID:-//Biomedical Mathematics Group - ECPv6.15.20//NONSGML v1.0//EN
CALSCALE:GREGORIAN
METHOD:PUBLISH
X-WR-CALNAME:Biomedical Mathematics Group
X-ORIGINAL-URL:https://www.ibs.re.kr/bimag
X-WR-CALDESC:Events for Biomedical Mathematics Group
REFRESH-INTERVAL;VALUE=DURATION:PT1H
X-Robots-Tag:noindex
X-PUBLISHED-TTL:PT1H
BEGIN:VTIMEZONE
TZID:Asia/Seoul
BEGIN:STANDARD
TZOFFSETFROM:+0900
TZOFFSETTO:+0900
TZNAME:KST
DTSTART:20210101T000000
END:STANDARD
END:VTIMEZONE
BEGIN:VEVENT
DTSTART;TZID=Asia/Seoul:20220919T130000
DTEND;TZID=Asia/Seoul:20220919T133000
DTSTAMP:20260425T063544
CREATED:20220904T124617Z
LAST-MODIFIED:20220904T125510Z
UID:6552-1663592400-1663594200@www.ibs.re.kr
SUMMARY:STEM Initiatives for Agricultural 4.0 and Beyond
DESCRIPTION:This talk will be given online. \nAbstract: \nThe establishment of UN Sustainable Development Goals (SDG) has led to widespread initiative in STEM learning and research in realising these goals. Here\, we will look at some of the works that use control engineering approaches for smart farming (also known as Agriculture 4.0) applications that addresses UN SDG Goal No. 2 – ZERO HUNGER. The tools developed have tremendous potential in optimising conditions required for enhanced crop efficiency and productivity for Agriculture 4.0.
URL:https://www.ibs.re.kr/bimag/event/2022-09-19-seminar-1/
LOCATION:Daejeon
CATEGORIES:Biomedical Mathematics Seminar
ORGANIZER;CN="Jae Kyoung Kim":MAILTO:jaekkim@kaist.ac.kr
END:VEVENT
BEGIN:VEVENT
DTSTART;TZID=Asia/Seoul:20220919T133000
DTEND;TZID=Asia/Seoul:20220919T140000
DTSTAMP:20260425T063544
CREATED:20220904T124842Z
LAST-MODIFIED:20220904T124842Z
UID:6555-1663594200-1663596000@www.ibs.re.kr
SUMMARY:Design frameworks for engineering efficient cell factory performance within host and industrial constraints
DESCRIPTION:This talk will be given online. \nAbstract: \nSynthetic biology and microbial biotechnology offer sustainable routes to the manufacture of commodity and high value chemicals from agricultural by-products instead of petrochemical feedstocks. However\, engineered gene circuits and metabolic pathways both co-opt the cell’s gene expression machinery for protein/enzyme production and divert metabolic flux away from key host biosynthetic building blocks to a desired product. These interactions impair host growth and complicate the engineering of synthetic functions. To overcome these difficulties\, we propose a host-aware engineering approach which accounts for these constraints during the circuit/pathway design process. Here we present a dynamic whole cell modelling framework of microbial growth\, metabolism\, and gene expression which captures key host-circuit/pathway interactions. By coupling our modelling framework with systems engineering approaches and multi-objective optimization tools\, we identify key design trade-offs\, make recommendations for optimal host resource usage\, and develop feedback control strategies which improve pathway productivity and yields.
URL:https://www.ibs.re.kr/bimag/event/2022-09-19-seminar-2/
LOCATION:Daejeon
CATEGORIES:Biomedical Mathematics Seminar
ORGANIZER;CN="Jae Kyoung Kim":MAILTO:jaekkim@kaist.ac.kr
END:VEVENT
END:VCALENDAR