BEGIN:VCALENDAR
VERSION:2.0
PRODID:-//Biomedical Mathematics Group - ECPv6.15.20//NONSGML v1.0//EN
CALSCALE:GREGORIAN
METHOD:PUBLISH
X-ORIGINAL-URL:https://www.ibs.re.kr/bimag
X-WR-CALDESC:Events for Biomedical Mathematics Group
REFRESH-INTERVAL;VALUE=DURATION:PT1H
X-Robots-Tag:noindex
X-PUBLISHED-TTL:PT1H
BEGIN:VTIMEZONE
TZID:Asia/Seoul
BEGIN:STANDARD
TZOFFSETFROM:+0900
TZOFFSETTO:+0900
TZNAME:KST
DTSTART:20210101T000000
END:STANDARD
END:VTIMEZONE
BEGIN:VEVENT
DTSTART;TZID=Asia/Seoul:20220708T130000
DTEND;TZID=Asia/Seoul:20220708T140000
DTSTAMP:20260425T032100
CREATED:20220707T190000Z
LAST-MODIFIED:20220629T005506Z
UID:6246-1657285200-1657288800@www.ibs.re.kr
SUMMARY:Chemical Organisation Theory
DESCRIPTION:We will discuss about “Chemical Organisation Theory\n“\, Dittrich\, Peter\, and Pietro Speroni Di Fenizio\, Bulletin of mathematical biology 69.4 (2007): 1199-1231. \nAbstract: Complex dynamical reaction networks consisting of many components that interact and produce each other are difficult to understand\, especially\, when new component types may appear and present component types may vanish completely. Inspired by Fontana and Buss (Bull. Math. Biol.\, 56\, 1–64) we outline a theory to deal with such systems. The theory consists of two parts. The first part introduces the concept of a chemical organisation as a closed and self-maintaining set of components. This concept allows to map a complex (reaction) network to the set of organisations\, providing a new view on the system’s structure. The second part connects dynamics with the set of organisations\, which allows to map a movement of the system in state space to a movement in the set of organisations. The relevancy of our theory is underlined by a theorem that says that given a differential equation describing the chemical dynamics of the network\, then every stationary state is an instance of an organisation. For demonstration\, the theory is applied to a small model of HIV-immune system interaction by Wodarz and Nowak (Proc. Natl. Acad. USA\, 96\, 14464–14469) and to a large model of the sugar metabolism of E. Coli by Puchalka and Kierzek (Biophys. J.\, 86\, 1357–1372). In both cases organisations where uncovered\, which could be related to functions.
URL:https://www.ibs.re.kr/bimag/event/2022-07-08-jc/
LOCATION:B378 Seminar room\, IBS\, 55 Expo-ro Yuseong-gu\, Daejeon\, 34126\, Korea\, Republic of
CATEGORIES:Journal Club
ORGANIZER;CN="Jae Kyoung Kim":MAILTO:jaekkim@kaist.ac.kr
END:VEVENT
END:VCALENDAR