BEGIN:VCALENDAR
VERSION:2.0
PRODID:-//Biomedical Mathematics Group - ECPv6.15.20//NONSGML v1.0//EN
CALSCALE:GREGORIAN
METHOD:PUBLISH
X-ORIGINAL-URL:https://www.ibs.re.kr/bimag
X-WR-CALDESC:Events for Biomedical Mathematics Group
REFRESH-INTERVAL;VALUE=DURATION:PT1H
X-Robots-Tag:noindex
X-PUBLISHED-TTL:PT1H
BEGIN:VTIMEZONE
TZID:Asia/Seoul
BEGIN:STANDARD
TZOFFSETFROM:+0900
TZOFFSETTO:+0900
TZNAME:KST
DTSTART:20210101T000000
END:STANDARD
END:VTIMEZONE
BEGIN:VEVENT
DTSTART;TZID=Asia/Seoul:20220331T110000
DTEND;TZID=Asia/Seoul:20220331T120000
DTSTAMP:20260424T184920
CREATED:20220330T170000Z
LAST-MODIFIED:20220317T000754Z
UID:5582-1648724400-1648728000@www.ibs.re.kr
SUMMARY:Design principles of physiological circuits
DESCRIPTION:This talk will be presented online. Zoom link: 997 8258 4700 (pw: 1234) \nAbstract: We will discuss hormone circuits and their dynamics using new models that take into account timescales of weeks due to growth of the hormone glands. This explains some mysteries in diabetes and autoimmune disease.
URL:https://www.ibs.re.kr/bimag/event/2022-03-31/
LOCATION:ZOOM ID: 997 8258 4700 (Biomedical Mathematics Online Colloquium)\, (pw: 1234)
CATEGORIES:Biomedical Mathematics Online Colloquium
ATTACH;FMTTYPE=image/png:https://www.ibs.re.kr/bimag/cms/wp-content/uploads/2022/01/UA_250x250.png
ORGANIZER;CN="Jae Kyoung Kim":MAILTO:jaekkim@kaist.ac.kr
END:VEVENT
END:VCALENDAR