BEGIN:VCALENDAR
VERSION:2.0
PRODID:-//Biomedical Mathematics Group - ECPv6.15.20//NONSGML v1.0//EN
CALSCALE:GREGORIAN
METHOD:PUBLISH
X-WR-CALNAME:Biomedical Mathematics Group
X-ORIGINAL-URL:https://www.ibs.re.kr/bimag
X-WR-CALDESC:Events for Biomedical Mathematics Group
REFRESH-INTERVAL;VALUE=DURATION:PT1H
X-Robots-Tag:noindex
X-PUBLISHED-TTL:PT1H
BEGIN:VTIMEZONE
TZID:Asia/Seoul
BEGIN:STANDARD
TZOFFSETFROM:+0900
TZOFFSETTO:+0900
TZNAME:KST
DTSTART:20210101T000000
END:STANDARD
END:VTIMEZONE
BEGIN:VEVENT
DTSTART;TZID=Asia/Seoul:20220325T130000
DTEND;TZID=Asia/Seoul:20220325T140000
DTSTAMP:20260424T113147
CREATED:20220317T190000Z
LAST-MODIFIED:20220224T015444Z
UID:5562-1648213200-1648216800@www.ibs.re.kr
SUMMARY:Universal structural requirements for maximal robust perfect adaptation in biomolecular networks
DESCRIPTION:Abstract: Consider a biomolecular reaction network that exhibits robust perfect adaptation to disturbances from several parallel sources. The well-known Internal Model Principle of control theory suggests that such systems must include a subsystem (called the “internal model”) that is able to recreate the dynamic structure of the disturbances. This requirement poses certain structural constraints on the network which we elaborate in this paper for the scenario where constant-in-time disturbances maximally affect network interactions and there is model uncertainty and possible stochasticity in the dynamics. We prove that these structural constraints are primarily characterized by a simple linear-algebraic stoichiometric condition which remains the same for both deterministic and stochastic descriptions of the dynamics. Our results reveal the essential requirements for maximal robust perfect adaptation in biology\, with important implications for both systems and synthetic biology. We exemplify our results through many known examples of robustly adapting networks and we construct new examples of such networks with the aid of our linear-algebraic characterization.
URL:https://www.ibs.re.kr/bimag/event/2022-03-18/
LOCATION:B378 Seminar room\, IBS\, 55 Expo-ro Yuseong-gu\, Daejeon\, 34126\, Korea\, Republic of
CATEGORIES:Journal Club
ORGANIZER;CN="Jae Kyoung Kim":MAILTO:jaekkim@kaist.ac.kr
END:VEVENT
END:VCALENDAR