BEGIN:VCALENDAR
VERSION:2.0
PRODID:-//Biomedical Mathematics Group - ECPv6.15.20//NONSGML v1.0//EN
CALSCALE:GREGORIAN
METHOD:PUBLISH
X-WR-CALNAME:Biomedical Mathematics Group
X-ORIGINAL-URL:https://www.ibs.re.kr/bimag
X-WR-CALDESC:Events for Biomedical Mathematics Group
REFRESH-INTERVAL;VALUE=DURATION:PT1H
X-Robots-Tag:noindex
X-PUBLISHED-TTL:PT1H
BEGIN:VTIMEZONE
TZID:Asia/Seoul
BEGIN:STANDARD
TZOFFSETFROM:+0900
TZOFFSETTO:+0900
TZNAME:KST
DTSTART:20210101T000000
END:STANDARD
END:VTIMEZONE
BEGIN:VEVENT
DTSTART;TZID=Asia/Seoul:20220902T110000
DTEND;TZID=Asia/Seoul:20220902T120000
DTSTAMP:20260425T062959
CREATED:20220825T010806Z
LAST-MODIFIED:20220829T000006Z
UID:6463-1662116400-1662120000@www.ibs.re.kr
SUMMARY:Cell signaling in 2D vs. 3D
DESCRIPTION:Abstract: \nThe activation of Ras depends upon the translocation of its guanine nucleotide exchange factor\, Sos\, to the plasma membrane. Moreover\, artificially inducing Sos to translocate to the plasma membrane is sufficient to bring about Ras activation and activation of Ras’s targets. There are many other examples of signaling proteins that must translocate to the membrane in order to relay a signal. \nOne attractive idea is that translocation promotes signaling by bringing a protein closer to its target. However\, proteins that are anchored to the membrane diffuse more slowly than cytosolic proteins do\, and it is not clear whether the concentration effect or the diffusion effect would be expected to dominate. Here we have used a reconstituted\, controllable system to measure the association rate for the same binding reaction in 3D vs. 2D to see whether association is promoted\, and\, if so\, how.
URL:https://www.ibs.re.kr/bimag/event/20220902_colloquium/
LOCATION:ZOOM ID: 997 8258 4700 (Biomedical Mathematics Online Colloquium)\, (pw: 1234)
CATEGORIES:Biomedical Mathematics Online Colloquium
ATTACH;FMTTYPE=image/jpeg:https://www.ibs.re.kr/bimag/cms/wp-content/uploads/2022/08/Ferrell_profile-250x250-1.jpg
ORGANIZER;CN="Jae Kyoung Kim":MAILTO:jaekkim@kaist.ac.kr
END:VEVENT
BEGIN:VEVENT
DTSTART;TZID=Asia/Seoul:20220902T150000
DTEND;TZID=Asia/Seoul:20220902T160000
DTSTAMP:20260425T062959
CREATED:20220817T042800Z
LAST-MODIFIED:20220828T171528Z
UID:6398-1662130800-1662134400@www.ibs.re.kr
SUMMARY:Hidden Markov models for monitoring circadian rhythmicity in telemetric activity data
DESCRIPTION:We will discuss about “Hidden Markov models for monitoring circadian rhythmicity in telemetric activity data”\, Huang\, Qi\, Journal of The Royal Society Interface 15.139 (2018): 20170885. \nAbstract: Wearable computing devices allow collection of densely sampled real-time information on movement enabling researchers and medical experts to obtain objective and non-obtrusive records of actual activity of a subject in the real world over many days. Our interest here is motivated by the use of activity data for evaluating and monitoring the circadian rhythmicity of subjects for research in chronobiology and chronotherapeutic healthcare. In order to translate the information from such high-volume data arising we propose the use of a Markov modelling approach which (i) naturally captures the notable square wave form observed in activity data along with heterogeneous ultradian variances over the circadian cycle of human activity\, (ii) thresholds activity into different states in a probabilistic way while respecting time dependence and (iii) gives rise to circadian rhythm parameter estimates\, based on probabilities of transitions between rest and activity\, that are interpretable and of interest to circadian research.
URL:https://www.ibs.re.kr/bimag/event/2022-09-02-jc/
LOCATION:B378 Seminar room\, IBS\, 55 Expo-ro Yuseong-gu\, Daejeon\, 34126\, Korea\, Republic of
CATEGORIES:Journal Club
ORGANIZER;CN="Jae Kyoung Kim":MAILTO:jaekkim@kaist.ac.kr
END:VEVENT
BEGIN:VEVENT
DTSTART;TZID=Asia/Seoul:20220916T110000
DTEND;TZID=Asia/Seoul:20220916T120000
DTSTAMP:20260425T062959
CREATED:20220825T190000Z
LAST-MODIFIED:20220905T053032Z
UID:6351-1663326000-1663329600@www.ibs.re.kr
SUMMARY:Physics-informed neural networks for PDE-constrained optimization and control
DESCRIPTION:We will discuss about “Physics-informed neural networks for PDE-constrained optimization and control”\, Barry-Straume\, Jostein\, et al.\, arXiv preprint arXiv:2205.03377 (2022). \nAbstract: A fundamental problem of science is designing optimal control policies that manipulate a given environment into producing a desired outcome. Control PhysicsInformed Neural Networks simultaneously solve a given system state\, and its respective optimal control\, in a one-stage framework that conforms to physical laws of the system. Prior approaches use a two-stage framework that models and controls a system sequentially\, whereas Control PINNs incorporates the required optimality conditions in its architecture and loss function. The success of Control PINNs is demonstrated by solving the following open-loop optimal control problems: (i) an analytical problem (ii) a one-dimensional heat equation\, and (iii) a two-dimensional predator-prey problem.
URL:https://www.ibs.re.kr/bimag/event/2022-09-16-jc/
LOCATION:B378 Seminar room\, IBS\, 55 Expo-ro Yuseong-gu\, Daejeon\, 34126\, Korea\, Republic of
CATEGORIES:Journal Club
ORGANIZER;CN="Jae Kyoung Kim":MAILTO:jaekkim@kaist.ac.kr
END:VEVENT
BEGIN:VEVENT
DTSTART;TZID=Asia/Seoul:20220919T130000
DTEND;TZID=Asia/Seoul:20220919T133000
DTSTAMP:20260425T062959
CREATED:20220904T124617Z
LAST-MODIFIED:20220904T125510Z
UID:6552-1663592400-1663594200@www.ibs.re.kr
SUMMARY:STEM Initiatives for Agricultural 4.0 and Beyond
DESCRIPTION:This talk will be given online. \nAbstract: \nThe establishment of UN Sustainable Development Goals (SDG) has led to widespread initiative in STEM learning and research in realising these goals. Here\, we will look at some of the works that use control engineering approaches for smart farming (also known as Agriculture 4.0) applications that addresses UN SDG Goal No. 2 – ZERO HUNGER. The tools developed have tremendous potential in optimising conditions required for enhanced crop efficiency and productivity for Agriculture 4.0.
URL:https://www.ibs.re.kr/bimag/event/2022-09-19-seminar-1/
LOCATION:Daejeon
CATEGORIES:Biomedical Mathematics Seminar
ORGANIZER;CN="Jae Kyoung Kim":MAILTO:jaekkim@kaist.ac.kr
END:VEVENT
BEGIN:VEVENT
DTSTART;TZID=Asia/Seoul:20220919T133000
DTEND;TZID=Asia/Seoul:20220919T140000
DTSTAMP:20260425T062959
CREATED:20220904T124842Z
LAST-MODIFIED:20220904T124842Z
UID:6555-1663594200-1663596000@www.ibs.re.kr
SUMMARY:Design frameworks for engineering efficient cell factory performance within host and industrial constraints
DESCRIPTION:This talk will be given online. \nAbstract: \nSynthetic biology and microbial biotechnology offer sustainable routes to the manufacture of commodity and high value chemicals from agricultural by-products instead of petrochemical feedstocks. However\, engineered gene circuits and metabolic pathways both co-opt the cell’s gene expression machinery for protein/enzyme production and divert metabolic flux away from key host biosynthetic building blocks to a desired product. These interactions impair host growth and complicate the engineering of synthetic functions. To overcome these difficulties\, we propose a host-aware engineering approach which accounts for these constraints during the circuit/pathway design process. Here we present a dynamic whole cell modelling framework of microbial growth\, metabolism\, and gene expression which captures key host-circuit/pathway interactions. By coupling our modelling framework with systems engineering approaches and multi-objective optimization tools\, we identify key design trade-offs\, make recommendations for optimal host resource usage\, and develop feedback control strategies which improve pathway productivity and yields.
URL:https://www.ibs.re.kr/bimag/event/2022-09-19-seminar-2/
LOCATION:Daejeon
CATEGORIES:Biomedical Mathematics Seminar
ORGANIZER;CN="Jae Kyoung Kim":MAILTO:jaekkim@kaist.ac.kr
END:VEVENT
BEGIN:VEVENT
DTSTART;TZID=Asia/Seoul:20220923T150000
DTEND;TZID=Asia/Seoul:20220923T160000
DTSTAMP:20260425T062959
CREATED:20220830T011634Z
LAST-MODIFIED:20220922T011820Z
UID:6529-1663945200-1663948800@www.ibs.re.kr
SUMMARY:Cell clustering for spatial transcriptomics data with graph neural networks
DESCRIPTION:We will discuss about “Cell clustering for spatial transcriptomics data with graph neural networks”\, Li\, J.\, Chen\, S.\, Pan\, X. et al.\, Nat Comput Sci 2\, 399–408 (2022) \nAbstract: \nSpatial transcriptomics data can provide high-throughput gene expression profiling and the spatial structure of tissues simultaneously. Most studies have relied on only the gene expression information but cannot utilize the spatial information efficiently. Taking advantage of spatial transcriptomics and graph neural networks\, we introduce cell clustering for spatial transcriptomics data with graph neural networks\, an unsupervised cell clustering method based on graph convolutional networks to improve ab initio cell clustering and discovery of cell subtypes based on curated cell category annotation. On the basis of its application to five in vitro and in vivo spatial datasets\, we show that cell clustering for spatial transcriptomics outperforms other spatial clustering approaches on spatial transcriptomics datasets and can clearly identify all four cell cycle phases from multiplexed error-robust fluorescence in situ hybridization data of cultured cells. From enhanced sequential fluorescence in situ hybridization data of brain\, cell clustering for spatial transcriptomics finds functional cell subtypes with different micro-environments\, which are all validated experimentally\, inspiring biological hypotheses about the underlying interactions among the cell state\, cell type and micro-environment. \n  \n 
URL:https://www.ibs.re.kr/bimag/event/2022-09-23/
LOCATION:B378 Seminar room\, IBS\, 55 Expo-ro Yuseong-gu\, Daejeon\, 34126\, Korea\, Republic of
CATEGORIES:Journal Club
ORGANIZER;CN="Jae Kyoung Kim":MAILTO:jaekkim@kaist.ac.kr
END:VEVENT
BEGIN:VEVENT
DTSTART;TZID=Asia/Seoul:20220927T160000
DTEND;TZID=Asia/Seoul:20220927T170000
DTSTAMP:20260425T062959
CREATED:20220920T065117Z
LAST-MODIFIED:20220920T080942Z
UID:6633-1664294400-1664298000@www.ibs.re.kr
SUMMARY:Causal Inference – basics and examples
DESCRIPTION:Abstract: \nIn real world\, people are interested in causality rather than association. For example\, pharmaceutical companies want to know effectiveness of their new drugs against diseases. South Korea Government officials are concerned about the effects of recent regulation with respect to an electric car subsidy from United States. Due to this reason\, causal inference has been received much attention in decades and it is now a big research field in statistics. In this seminar\, I will talk about basic idea and theory in the causal inference. Real data examples will be discussed.
URL:https://www.ibs.re.kr/bimag/event/2022-09-27-seminar/
LOCATION:B378 Seminar room\, IBS\, 55 Expo-ro Yuseong-gu\, Daejeon\, 34126\, Korea\, Republic of
CATEGORIES:Biomedical Mathematics Seminar
ORGANIZER;CN="Jae Kyoung Kim":MAILTO:jaekkim@kaist.ac.kr
END:VEVENT
BEGIN:VEVENT
DTSTART;TZID=Asia/Seoul:20220930T150000
DTEND;TZID=Asia/Seoul:20220930T160000
DTSTAMP:20260425T062959
CREATED:20220830T012122Z
LAST-MODIFIED:20220830T012141Z
UID:6531-1664550000-1664553600@www.ibs.re.kr
SUMMARY:Absolute concentration robustness in networks with low-dimensional stoichiometric subspace
DESCRIPTION:We will discuss about “Absolute concentration robustness in networks with low-dimensional stoichiometric subspace”\, Meshkat\, Nicolette\, Anne Shiu\, and Angelica Torres.\, Vietnam Journal of Mathematics 50.3 (2022): 623-651. \nAbstract: \nA reaction system exhibits “absolute concentration robustness” (ACR) in some species if the positive steady-state value of that species does not depend on initial conditions. Mathematically\, this means that the positive part of the variety of the steady-state ideal lies entirely in a hyperplane of the form xi = c\, for some c > 0. Deciding whether a given reaction system – or those arising from some reaction network – exhibits ACR is difficult in general\, but here we show that for many simple networks\, assessing ACR is straightforward. Indeed\, our criteria for ACR can be performed by simply inspecting a network or its standard embedding into Euclidean space. Our main results pertain to networks with many conservation laws\, so that all reactions are parallel to one other. Such “one-dimensional” networks include those networks having only one species. We also consider networks with only two reactions\, and show that ACR is characterized by a well-known criterion of Shinar and Feinberg. Finally\, up to some natural ACR-preserving operations – relabeling species\, lengthening a reaction\, and so on – only three families of networks with two reactions and two species have ACR. Our results are proven using algebraic and combinatorial techniques. \n 
URL:https://www.ibs.re.kr/bimag/event/2022-09-30-jc/
LOCATION:B378 Seminar room\, IBS\, 55 Expo-ro Yuseong-gu\, Daejeon\, 34126\, Korea\, Republic of
CATEGORIES:Journal Club
ORGANIZER;CN="Jae Kyoung Kim":MAILTO:jaekkim@kaist.ac.kr
END:VEVENT
END:VCALENDAR